BEGIN:VCALENDAR
VERSION:2.0
PRODID:-//ChamberMaster//Event Calendar 2.0//EN
METHOD:PUBLISH
X-PUBLISHED-TTL:P3D
REFRESH-INTERVAL:P3D
CALSCALE:GREGORIAN
BEGIN:VEVENT
DTSTART:20111203T000000Z
DTEND:20111203T020000Z
X-MICROSOFT-CDO-ALLDAYEVENT:FALSE
SUMMARY:Old South Church Carol Sing-Along
DESCRIPTION:Join Old South Church on Invitation Night for a Christmas Carol Sing-Along! \n\n	Nursery care available!
X-ALT-DESC;FMTTYPE=text/html:<h3 style="color: red\; text-align: center\;">\n	<span style="font-size: 16px\;"><span style="font-family: times new roman\;">Join Old South Church on Invitation Night for a Christmas Carol Sing-Along!&nbsp\;<br />\n	Nursery care available!</span></span></h3>\n
LOCATION:Old South Church 29 Federal Street Newburyport\, MA 01950
UID:e.1189.2387
SEQUENCE:3
DTSTAMP:20260419T173141Z
URL:https://business.newburyportchamber.org/events/details/old-south-church-carol-sing-along-12-02-2011-2387
END:VEVENT

END:VCALENDAR
