BEGIN:VCALENDAR
VERSION:2.0
PRODID:-//ChamberMaster//Event Calendar 2.0//EN
METHOD:PUBLISH
X-PUBLISHED-TTL:P3D
REFRESH-INTERVAL:P3D
CALSCALE:GREGORIAN
BEGIN:VEVENT
DTSTART:20110805T140000Z
DTEND:20110805T230000Z
X-MICROSOFT-CDO-ALLDAYEVENT:FALSE
SUMMARY:Old Fashioned Sidewalk Sales
DESCRIPTION:Of all the events that encompass Yankee Homecoming\, there are few that have garnered as much annual enthusiasm as the three-day shopping extravaganza held on the sidewalks of Newburyport!\n\n	\n\n	Enjoy old fashioned\, outdoor shopping throughout downtown Newburyport\, The Tannery\, and Port Plaza. A great opportunity to support our unique local merchants\, shop for some great deals\, and enjoy Newburyport during the Yankee Homecoming Celebration!\n\n\nAttention Local Retailers!\n\nTo participate\, please download an application here.\n\nOpen to both Chamber members and non-members.\n\n\n\nAttention local Non Profits!\n\nTo participate\, please download an application here.\n\nOpen to Chamber non profit members only.
X-ALT-DESC;FMTTYPE=text/html:<p style="text-align: left">\n	<span style="font-size: 12px"><span style="font-family: tahoma"><span style="color: #aa0000">Of all the events that encompass Yankee Homecoming\, there are few that have garnered as much annual enthusiasm as the three-day shopping extravaganza held on the sidewalks of Newburyport!<br />\n	<br />\n	Enjoy old fashioned\, outdoor shopping throughout downtown Newburyport\, The Tannery\, and Port Plaza. A great opportunity to support our unique local merchants\, shop for some great deals\, and enjoy Newburyport during the Yankee Homecoming Celebration!</span></span></span></p>\n<br />\n<span style="font-size: 12px"><span style="font-family: tahoma"><span><strong>Attention Local Retailers!</strong><br />\nTo participate\, please download an <a href="http://www.newburyportchamber.org/pdf/SidewalkSales_Application.pdf" target="_blank"><span style="color: #aa0000">application here</span></a>.<br />\n<em>Open to both Chamber members and non-members.</em></span><br />\n<br />\n<span><strong>Attention local Non Profits!</strong><br />\nTo participate\, please download an <a href="http://www.newburyportchamber.org/pdf/SidewalkSales_App_NonProf.pdf" target="_blank"><span style="color: #aa0000">application here</span></a><em>.<br />\nOpen to Chamber non profit members only.</em></span></span></span><br />\n<br />\n<br />\n<br />\n
LOCATION:Downtown Newburyport\, The Tannery and Port Plaza
UID:e.1189.1834
SEQUENCE:3
DTSTAMP:20260419T223523Z
URL:https://business.newburyportchamber.org/events/details/old-fashioned-sidewalk-sales-08-05-2011-1834
END:VEVENT

END:VCALENDAR
