BEGIN:VCALENDAR
VERSION:2.0
PRODID:-//ChamberMaster//Event Calendar 2.0//EN
METHOD:PUBLISH
X-PUBLISHED-TTL:P3D
REFRESH-INTERVAL:P3D
CALSCALE:GREGORIAN
BEGIN:VEVENT
DTSTART:20090730T040000Z
DTEND:20090801T040000Z
X-MICROSOFT-CDO-ALLDAYEVENT:FALSE
SUMMARY:Old Fashioned Sidewalk Sales
DESCRIPTION:Mark you calendars for Thursday\, July 30 through Saturday\, August 1!  Enjoy old fashioned\, outdoor shopping throughout downtown Newburyport\, Port Plaza and the Tannery.  In combination with Yankee Homecoming\, Old Fashioned Sidewalk Sales entice locals and visitors alike\, creating an enthusiasm for downtown activities that lasts well after the sales end!
X-ALT-DESC;FMTTYPE=text/html:<DIV><FONT face=Arial><FONT size=2><SPAN style="FONT-SIZE: 11pt\; FONT-FAMILY: Calibri">Mark you calendars for Thursday\, July 30 through Saturday\, August 1! &nbsp\;Enjoy old fashioned\, outdoor shopping throughout downtown </SPAN><SPAN style="FONT-SIZE: 11pt\; FONT-FAMILY: Calibri">Newburyport</SPAN><SPAN style="FONT-SIZE: 11pt\; FONT-FAMILY: Calibri">\, </SPAN><SPAN style="FONT-SIZE: 11pt\; FONT-FAMILY: Calibri">Port</SPAN><SPAN style="FONT-SIZE: 11pt\; FONT-FAMILY: Calibri"> </SPAN><SPAN style="FONT-SIZE: 11pt\; FONT-FAMILY: Calibri">Plaza</SPAN><SPAN style="FONT-SIZE: 11pt\; FONT-FAMILY: Calibri"> and the Tannery. &nbsp\;In combination with Yankee Homecoming\, Old Fashioned Sidewalk Sales entice locals and visitors alike\, creating an enthusiasm for downtown activities that lasts well after the sales end!</SPAN></FONT></FONT></DIV><DIV>&nbsp\;</DIV><DIV>&nbsp\;</DIV><DIV>&nbsp\;</DIV><DIV>&nbsp\;</DIV>
LOCATION:Downtown\, The Tannery\, Port Plaza
UID:e.1189.1260
SEQUENCE:3
DTSTAMP:20260421T213317Z
URL:https://business.newburyportchamber.org/events/details/old-fashioned-sidewalk-sales-07-30-2009-1260
END:VEVENT

END:VCALENDAR
