BEGIN:VCALENDAR
VERSION:2.0
PRODID:-//ChamberMaster//Event Calendar 2.0//EN
METHOD:PUBLISH
X-PUBLISHED-TTL:P3D
REFRESH-INTERVAL:P3D
CALSCALE:GREGORIAN
BEGIN:VEVENT
DTSTART:20100729T040000Z
DTEND:20100731T040000Z
X-MICROSOFT-CDO-ALLDAYEVENT:FALSE
SUMMARY:Old Fashioned Sidewalk Sales
DESCRIPTION:Mark your calendars for Thursday\, July 29 through Saturday\, July 31!\n\nEnjoy old fashioned\, outdoor shopping throughout downtown Newburyport\, Port Plaza and the Tannery.  In combination with Yankee Homecoming\, Old Fashioned Sidewalk Sales entice locals and visitors alike\, creating an enthusiasm for downtown activities that lasts well after the sales end!\n\nFor more information\, call the Chamber office at 978-462-6680 or click HERE!
X-ALT-DESC;FMTTYPE=text/html:<SPAN style="FONT-FAMILY: 'Century Gothic'\; FONT-SIZE: x-small">Mark your calendars for Thursday\, July 29 through Saturday\, July 31!<BR><BR>Enjoy old fashioned\, outdoor shopping throughout downtown Newburyport\, Port Plaza and the Tannery. &nbsp\;In combination with Yankee Homecoming\, Old Fashioned Sidewalk Sales entice locals and visitors alike\, creating an enthusiasm for downtown activities that lasts well after the sales end!<BR><BR>For more information\, call the Chamber office at 978-462-6680 or click <A style="COLOR: blue\; TEXT-DECORATION: underline" title="" dataFld=0:0 href="http://www.newburyportchamber.org/sidewalk_sales.shtml" target=_NewWindow>HERE</A>!</SPAN>
LOCATION:Downtown\, The Tannery\, Port Plaza
UID:e.1189.1371
SEQUENCE:3
DTSTAMP:20260421T012716Z
URL:https://business.newburyportchamber.org/events/details/old-fashioned-sidewalk-sales-07-29-2010-1371
END:VEVENT

END:VCALENDAR
