BEGIN:VCALENDAR
VERSION:2.0
PRODID:-//ChamberMaster//Event Calendar 2.0//EN
METHOD:PUBLISH
X-PUBLISHED-TTL:P3D
REFRESH-INTERVAL:P3D
CALSCALE:GREGORIAN
BEGIN:VEVENT
DTSTART:20111014T113000Z
DTEND:20111014T130000Z
X-MICROSOFT-CDO-ALLDAYEVENT:FALSE
SUMMARY:October Breakfast Series - Less Cancer\, More Birthdays: Three Women Making a Difference in the Fight
DESCRIPTION:Less Cancer\, More Birthdays: Three Women Making a Difference in the Fight Against Breast Cancer\n\n\n\nSpeakers:  \n\n\n\nPauline Alighieri\, founder and president of Friends of Mel Foundation\n\nLisa Moore\, RTRM\, Mammography Supervisor\, Anna Jaques Hospital\n\nMarilyn Flaherty\, Newburyport resident and three-time breast cancer survivor. \n\n \n\n\n\nThese three women will talk about raising funds to make a difference\; prevention and early detection\; and surviving breast cancer.
X-ALT-DESC;FMTTYPE=text/html:<span style="font-size: 12pt"><strong>Less</strong> <strong>Cancer\, More Birthdays: Three Women Making a Difference in the Fight Against Breast Cancer</strong></span><br />\n<br />\n<span style="font-size: 12pt"><span style="font-size: 12pt">Speakers:&nbsp\;&nbsp\;<br />\n<br />\nPauline Alighieri\, founder and president of Friends of Mel Foundation</span><br />\nLisa Moore\, RTRM\, Mammography Supervisor\, Anna Jaques Hospital<br />\nMarilyn Flaherty\, Newburyport resident and three-time breast cancer survivor.&nbsp\;<br />\n<span _fck_bookmark="1" style="display: none">&nbsp\;</span><br />\n<br />\nThese three women will talk about raising funds to make a difference\; prevention and early detection\; and surviving breast cancer.</span><br />\n
LOCATION:The Phoenix Room 19 Inn Street Newburyport\, MA
UID:e.1189.2280
SEQUENCE:3
DTSTAMP:20260419T191954Z
URL:https://business.newburyportchamber.org/events/details/october-breakfast-series-less-cancer-more-birthdays-three-women-making-a-difference-in-the-fight-10-14-2011-2280
END:VEVENT

END:VCALENDAR
