BEGIN:VCALENDAR
VERSION:2.0
PRODID:-//ChamberMaster//Event Calendar 2.0//EN
METHOD:PUBLISH
X-PUBLISHED-TTL:P3D
REFRESH-INTERVAL:P3D
CALSCALE:GREGORIAN
BEGIN:VEVENT
DTSTART:20110821T180000Z
DTEND:20110821T200000Z
X-MICROSOFT-CDO-ALLDAYEVENT:FALSE
SUMMARY:Occidental Gypsy Jazz Quintet
DESCRIPTION:
X-ALT-DESC;FMTTYPE=text/html:
LOCATION:Maudslay Arts Center 95 Curzon Mill Rd.\, Maudslay State Park Newburyport
UID:e.1189.1999
SEQUENCE:3
DTSTAMP:20260419T224335Z
URL:https://business.newburyportchamber.org/events/details/occidental-gypsy-jazz-quintet-08-21-2011-1999
END:VEVENT

END:VCALENDAR
