BEGIN:VCALENDAR
VERSION:2.0
PRODID:-//ChamberMaster//Event Calendar 2.0//EN
METHOD:PUBLISH
X-PUBLISHED-TTL:P3D
REFRESH-INTERVAL:P3D
CALSCALE:GREGORIAN
BEGIN:VEVENT
DTSTART:20111117T123000Z
DTEND:20111117T140000Z
X-MICROSOFT-CDO-ALLDAYEVENT:FALSE
SUMMARY:November Breakfast Series - Mayor Donna Holaday
DESCRIPTION:Join us for important city\, regional and post election updates from Mayor Donna Holaday.
X-ALT-DESC;FMTTYPE=text/html:<span style="font-size: 14px">Join us for important city\, regional and post election updates from Mayor Donna Holaday.</span> 
LOCATION:Mission Oak Grill 26 Green Street\, Newburyport\, MA
UID:e.1189.2374
SEQUENCE:3
DTSTAMP:20260419T173747Z
URL:https://business.newburyportchamber.org/events/details/november-breakfast-series-mayor-donna-holaday-11-17-2011-2374
END:VEVENT

END:VCALENDAR
