BEGIN:VCALENDAR
VERSION:2.0
PRODID:-//ChamberMaster//Event Calendar 2.0//EN
METHOD:PUBLISH
X-PUBLISHED-TTL:P3D
REFRESH-INTERVAL:P3D
CALSCALE:GREGORIAN
BEGIN:VEVENT
DTSTART:20200415T123000Z
DTEND:20200415T140000Z
X-MICROSOFT-CDO-ALLDAYEVENT:FALSE
SUMMARY:Non-Profit Steering Committee: Garnering Philanthropic Support
DESCRIPTION:THIS MEETING HAS BEEN CANCELED\n\n\n\nThe steering committee of the Greater Newburyport Chamber of Commerce Nonprofit Council is happy to announce that Chuck Gordon\, President and CEO of The New Kensington Group will lead a session on garnering philanthropic support.
X-ALT-DESC;FMTTYPE=text/html:<span style="font-size:14px\;"><span style="font-family:tahoma\;"><span style="font-size:16px\;"><span style="color:#FF0000\;"><strong>THIS MEETING HAS BEEN CANCELED</strong></span></span><br />\n<br />\nThe steering committee of the Greater Newburyport Chamber of Commerce Nonprofit Council is happy to announce that Chuck Gordon\, President and CEO of The New Kensington Group will lead a session on garnering philanthropic support.</span></span>
LOCATION:C-10 CI Works 11 Chestnut Street Amesbury\, MA
UID:e.1189.76740
SEQUENCE:3
DTSTAMP:20260426T040304Z
URL:https://business.newburyportchamber.org/events/details/non-profit-steering-committee-garnering-philanthropic-support-76740
END:VEVENT

END:VCALENDAR
