BEGIN:VCALENDAR
VERSION:2.0
PRODID:-//ChamberMaster//Event Calendar 2.0//EN
METHOD:PUBLISH
X-PUBLISHED-TTL:P3D
REFRESH-INTERVAL:P3D
CALSCALE:GREGORIAN
BEGIN:VEVENT
DTSTART:20100127T050000Z
DTEND:20100127T050000Z
X-MICROSOFT-CDO-ALLDAYEVENT:FALSE
SUMMARY:Non-Profit Special Meeting - Speaker: Dave Wellbourn
DESCRIPTION:Networking 7:30 - 8:00 AM \nMeeting 8:00 - 9:00 AM  Dave Wellbourn\, President and CEO of the Essex County Community Foundation will join us at a special meeting for our non-profit members. Dave will help us start the new year off right as we look at the importance of vision for all non-profits and some tips to make 2010 the best year ever despite challenging economic times.  Dave Welbourn\, President and CEO of The Essex County Commuinty Foundation has focused his career on developing resources for the growth of nonprofit institutions.  He joined ECCF in the Spring of 2008 after long service as Senior Vice President at the Lahey Clinic\, and was previously in senior leadership at the University of Vermont and Tufts.  He teaches philanthropy and strategic planning as a consultant and volunteer for a variety of organizations\, which is how he became engaged with ECCF.  Dave and Lynn live in Wenham and share longstanding interests in many of the issues that ECCF supports.
X-ALT-DESC;FMTTYPE=text/html:<SPAN style="FONT-WEIGHT: bold\; FONT-SIZE: 10pt\; COLOR: blue\; FONT-STYLE: italic\; FONT-FAMILY: Arial"><FONT color=#000000><P class=MsoNormal><SPAN style="FONT-SIZE: 10pt\; FONT-FAMILY: Verdana"></SPAN></P><FONT color=#ff0000><SPAN style="FONT-SIZE: 10pt\; COLOR: blue\; FONT-FAMILY: Arial"><P class=MsoNormal style="MARGIN: 0in 0in 0pt"></SPAN></FONT><P class=MsoNormal style="MARGIN: 0in 0in 0pt"><P class=MsoNormal style="MARGIN: 0in 0in 0pt\; TEXT-ALIGN: justify"></P><P class=MsoNormal></P><FONT color=#000000><SPAN style="FONT-SIZE: 10pt\; COLOR: blue\; FONT-FAMILY: Arial"><SPAN style="FONT-SIZE: 14pt"><FONT color=#000000><SPAN style="FONT-SIZE: 14pt"><P class=MsoNormal style="MARGIN: 0in 0in 0pt"><FONT size=2>Networking 7:30 - 8:00 AM <BR>Meeting 8:00 - 9:00 AM </FONT></P><P class=MsoNormal style="MARGIN: 0in 0in 0pt"><FONT size=2></FONT>&nbsp\;</P><P class=MsoNormal style="MARGIN: 0in 0in 0pt"><FONT size=2>Dave Wellbourn\, President and CEO of the Essex County </FONT><FONT size=2>Community Foundation will join us at a special </FONT><FONT size=2>meeting for our non-profit members. Dave will help us </FONT><FONT size=2>start the new year off right as we look at the </FONT><FONT size=2>importance of vision for all non-profits and some </FONT><FONT size=2>tips to make 2010 the best year ever despite </FONT><FONT size=2>challenging economic times. </FONT></P><P class=MsoNormal style="MARGIN: 0in 0in 0pt"><FONT size=2></FONT>&nbsp\;</P><P class=MsoNormal style="MARGIN: 0in 0in 0pt"><FONT size=2>Dave Welbourn\,&nbsp\;President and CEO of The Essex County </FONT><FONT size=2>Commuinty Foundation has focused his career on </FONT><FONT size=2>developing resources for the growth of nonprofit </FONT><FONT size=2>institutions.&nbsp\; He joined ECCF in the Spring of 2008 </FONT><FONT size=2>after long service as Senior Vice President at the </FONT><FONT size=2>Lahey Clinic\, and was previously in senior leadership </FONT><FONT size=2>at the University of Vermont and Tufts.&nbsp\; He teaches </FONT><FONT size=2>philanthropy and strategic planning as a consultant </FONT><FONT size=2>and volunteer for a variety of organizations\, which </FONT><FONT size=2>is how he became engaged with ECCF.&nbsp\; Dave and Lynn </FONT><FONT size=2>live in Wenham and share longstanding interests in </FONT><FONT size=2>many of the issues that ECCF supports.</FONT></SPAN></FONT></SPAN></SPAN></FONT></FONT></SPAN><SPAN style="FONT-SIZE: 10pt\; FONT-FAMILY: Arial"><FONT color=#ff0000><SPAN style="FONT-SIZE: 10pt\; FONT-FAMILY: Arial"></SPAN></FONT></P></SPAN>
LOCATION:Newburyport Five Cents Savings Bank
UID:e.1189.1396
SEQUENCE:3
DTSTAMP:20260421T132417Z
URL:https://business.newburyportchamber.org/events/details/non-profit-special-meeting-speaker-dave-wellbourn-01-27-2010-1396
END:VEVENT

END:VCALENDAR
