BEGIN:VCALENDAR
VERSION:2.0
PRODID:-//ChamberMaster//Event Calendar 2.0//EN
METHOD:PUBLISH
X-PUBLISHED-TTL:P3D
REFRESH-INTERVAL:P3D
CALSCALE:GREGORIAN
BEGIN:VEVENT
DTSTART:20090415T040000Z
DTEND:20090415T040000Z
X-MICROSOFT-CDO-ALLDAYEVENT:FALSE
SUMMARY:Non Profit Seminar - Weathering the storm...effects on Devel
DESCRIPTION:This seminar "Weathering the storm....affects on Development" will address techniques and strategies for development professionals in this challenging economy. Presented by Elaine Cohen\, Director of Development at the Jeanne Geiger Crisis Center. Free Admission
X-ALT-DESC;FMTTYPE=text/html:<DIV><STRONG>This seminar "Weathering the storm....affects on Development" will address techniques and strategies for development professionals in this challenging economy. Presented by Elaine Cohen\, Director of Development at the Jeanne Geiger Crisis Center.</STRONG></DIV><DIV><STRONG></STRONG>&nbsp\;</DIV><DIV><STRONG>Free Admission</STRONG></DIV>
LOCATION:Institution for Savings Loan Center - Community Room
UID:e.1189.1208
SEQUENCE:3
DTSTAMP:20260422T041952Z
URL:https://business.newburyportchamber.org/events/details/non-profit-seminar-weathering-the-storm-effects-on-devel-04-15-2009-1208
END:VEVENT

END:VCALENDAR
