BEGIN:VCALENDAR
VERSION:2.0
PRODID:-//ChamberMaster//Event Calendar 2.0//EN
METHOD:PUBLISH
X-PUBLISHED-TTL:P3D
REFRESH-INTERVAL:P3D
CALSCALE:GREGORIAN
BEGIN:VEVENT
DTSTART:20110921T120000Z
DTEND:20110921T133000Z
X-MICROSOFT-CDO-ALLDAYEVENT:FALSE
SUMMARY:Non Profit Seminar - Best Practices in Annual Giving and Current Trends
DESCRIPTION:Attention Chamber non-profit members! \n\n \n\nPlease join us for a special education seminar for all non-profit members! \n\n \n\n"Best-practices in annual giving and/or current trends" \n\n \n\nFeaturing Jay Caporale\, Executive Vice President and Director of Philanthropy\n\nEssex County Community Foundation \n\n \n\n \n\nWednesday\, September 21\, 2011\n\n8:00 AM \n\nNewburyport Public Library   Program Room\n\nPlease enter through the door at the rear of the building on Prince Place \n\n \n\nPlease RSVP to aormond@newburyportchamber.org\n\n \n\nJay Caporale\, Executive Vice President & Director of Philanthropy - Jay joined ECCF in August\, 2010 after 21 years in senior management and a partner at Ruotolo Associates Inc\, a national consulting firm which provides philanthropic counsel to nonprofits. Jay's expertise includes capital campaigns\, strategic planning\, and development office operations with a special emphasis on board development and major gifts.\n\n \n\nBefore joining Ruotolo Associates\, Jay's professional experiences were in the political arena. He was Director of Community Relations and Economic Development for U.S. Congressman Chester G. Atkins of Massachusetts. Jay currently serves on the board of the Lanam Club\, Andover\, MA\, where he is Chair of the Membership Committee and the North Andover Youth Center.  Jay previously served for three years as Chair of the Board of Directors of UNICEF New England and was also on the President's Council of Merrimack College\, from which he graduated with a Political Science and Economic degree. Jay\, his wife Martha\, and their three sons live in North Andover\, Massachusetts.
X-ALT-DESC;FMTTYPE=text/html:&nbsp\;<span style="font-size: medium"><span style="font-family: calibri">Attention Chamber non-profit members! </span></span><br />\n&nbsp\;<br />\n<span style="font-size: medium"><span style="font-family: calibri">Please join us for a special education seminar for all non-profit members! </span></span><br />\n&nbsp\;<br />\n<span style="font-size: medium"><span style="font-family: calibri">&quot\;Best-practices in annual giving and/or current trends&rdquo\; </span></span><br />\n&nbsp\;<br />\n<span style="font-size: medium"><span style="font-family: calibri">Featuring Jay Caporale\, Executive Vice President and Director of Philanthropy</span></span><br />\n<span style="font-size: medium"><span style="font-family: calibri">Essex County Community Foundation </span></span><br />\n&nbsp\;<br />\n&nbsp\;<br />\n<span style="font-size: medium"><span style="font-family: calibri">Wednesday\, September 21\, 2011</span></span><br />\n<span style="font-size: medium"><span style="font-family: calibri">8:00 AM </span></span><br />\n<span style="font-size: medium"><span style="font-family: calibri">Newburyport Public Library &ndash\; Program Room</span></span><br />\n<span style="font-size: medium"><span style="font-family: calibri">Please enter through the door at the rear of the building on Prince Place </span></span><br />\n&nbsp\;<br />\n<span style="font-size: medium"><span style="font-family: calibri">Please RSVP to </span></span><a href="mailto:aormond@newburyportchamber.org"><span style="font-size: medium"><span style="font-family: calibri">aormond@newburyportchamber.org</span></span></a><br />\n&nbsp\;<br />\n<span style="font-size: medium"><span style="font-family: calibri">Jay Caporale\, Executive Vice President &amp\; Director of Philanthropy - Jay joined ECCF in August\, 2010 after 21 years in senior management and a partner at Ruotolo Associates Inc\, a national consulting firm which provides philanthropic counsel to nonprofits. Jay&rsquo\;s expertise includes capital campaigns\, strategic planning\, and development office operations with a special emphasis on board development and major gifts.</span></span><br />\n&nbsp\;<br />\n<span style="font-size: medium"><span style="font-family: calibri">Before joining Ruotolo Associates\, Jay&rsquo\;s professional experiences were in the political arena. He was Director of Community Relations and Economic Development for U.S. Congressman Chester G. Atkins of Massachusetts. Jay currently serves on the board of the Lanam Club\, Andover\, MA\, where he is Chair of the Membership Committee and the North Andover Youth Center.&nbsp\; Jay previously served for three years as Chair of the Board of Directors of UNICEF New England and was also on the President&rsquo\;s Council of Merrimack College\, from which he graduated with a Political Science and Economic degree. Jay\, his wife Martha\, and their three sons live in North Andover\, Massachusetts.&nbsp\;</span></span><br />\n&nbsp\;&nbsp\;<br />\n
LOCATION:Newburyport Public Library - Program Room 94 State Street\, Newburyport\, MA Please Note - As this seminar will begin before the library is open please enter through the back door.
UID:e.1189.2198
SEQUENCE:3
DTSTAMP:20260419T211707Z
URL:https://business.newburyportchamber.org/events/details/non-profit-seminar-best-practices-in-annual-giving-and-current-trends-09-21-2011-2198
END:VEVENT

END:VCALENDAR
