BEGIN:VCALENDAR
VERSION:2.0
PRODID:-//ChamberMaster//Event Calendar 2.0//EN
METHOD:PUBLISH
X-PUBLISHED-TTL:P3D
REFRESH-INTERVAL:P3D
CALSCALE:GREGORIAN
BEGIN:VEVENT
DTSTART:20120118T130000Z
DTEND:20120118T140000Z
X-MICROSOFT-CDO-ALLDAYEVENT:FALSE
SUMMARY:Non Profit member meeting
DESCRIPTION:Monthly non-profit member meeting\n\nThird Wednesday of the month
X-ALT-DESC;FMTTYPE=text/html:Monthly non-profit member meeting<br />\nThird Wednesday of the month
LOCATION:Chamber Office
UID:e.1189.2538
SEQUENCE:3
DTSTAMP:20260419T155410Z
URL:https://business.newburyportchamber.org/events/details/non-profit-member-meeting-01-18-2012-2538
END:VEVENT

END:VCALENDAR
