BEGIN:VCALENDAR
VERSION:2.0
PRODID:-//ChamberMaster//Event Calendar 2.0//EN
METHOD:PUBLISH
X-PUBLISHED-TTL:P3D
REFRESH-INTERVAL:P3D
CALSCALE:GREGORIAN
BEGIN:VEVENT
DTSTART:20080917T040000Z
DTEND:20080917T040000Z
X-MICROSOFT-CDO-ALLDAYEVENT:FALSE
SUMMARY:Non Profit Committee - September
DESCRIPTION:Please join us for a brown bag lunch at this month's Non Profit Meeting at C-10 Foundation.\n44 Merrimac Street\, Newburyport For more information\, contact Ann Ormond at aormond@newburyportchamber.org or 978-462-6680 x15.
X-ALT-DESC;FMTTYPE=text/html:<DIV><FONT size=2>Please join us for a brown bag lunch at this month's Non Profit Meeting at C-10 Foundation.<BR>44 Merrimac Street\, Newburyport</FONT></DIV><DIV><DIV><FONT size=2></FONT>&nbsp\;</DIV><DIV><FONT size=2>For more information\, contact Ann Ormond at <A href="mailto:aormond@newburyportchamber.org">aormond@newburyportchamber.org</A> or 978-462-6680 x15.</FONT></DIV></DIV>
LOCATION:C-10 Research & Education Foundation
UID:e.1189.968
SEQUENCE:3
DTSTAMP:20260422T144051Z
URL:https://business.newburyportchamber.org/events/details/non-profit-committee-september-09-17-2008-968
END:VEVENT

END:VCALENDAR
