BEGIN:VCALENDAR
VERSION:2.0
PRODID:-//ChamberMaster//Event Calendar 2.0//EN
METHOD:PUBLISH
X-PUBLISHED-TTL:P3D
REFRESH-INTERVAL:P3D
CALSCALE:GREGORIAN
BEGIN:VEVENT
DTSTART:20080521T040000Z
DTEND:20080521T040000Z
X-MICROSOFT-CDO-ALLDAYEVENT:FALSE
SUMMARY:Non Profit Committee - May
DESCRIPTION:This month's Non Profit Committee meeting will be held at a special location\, Opportunity Works - and we will be joined with special guest Superintendent of Schools\,  Kevin Lyons and Bob Miller from NEBC (Newburyport Education Business Coalition).\n Opportunity Works is located in the Industrial Park at 10 Opportunity Way\, Newburyport.\n For more information\, please contact Ann Ormond at aormond@newburyportchamber.org or 978-462-6680 x15.
X-ALT-DESC;FMTTYPE=text/html:<DIV align=left><FONT face=Arial color=#0f0f0f size=2>This month's Non Profit Committee meeting will be held at a special location\, Opportunity Works - and we will be joined with special guest Superintendent of Schools\,&nbsp\; Kevin Lyons and Bob Miller from NEBC (Newburyport Education Business Coalition).</FONT></DIV><DIV align=left><FONT face=Arial color=#0f0f0f size=2><BR>&nbsp\;</DIV></FONT><DIV align=left><FONT face=Arial color=#0f0f0f size=2>Opportunity Works is located in the Industrial Park at 10 Opportunity Way\, Newburyport.</FONT></DIV><DIV align=left><FONT face=Arial color=#0f0f0f size=2><BR>&nbsp\;</DIV></FONT><DIV align=left><FONT size=2><FONT face=Arial color=#0f0f0f>For more information\, please contact Ann Ormond at </FONT><A href="mailto:aormond@newburyportchamber.org"><FONT face=Arial color=#0f0f0f>aormond@newburyportchamber.org</FONT></A><FONT face=Arial color=#0f0f0f> or 978-462-6680 x15.</FONT></FONT></DIV><DIV align=left><FONT face=Georgia color=#660066 size=2><BR>&nbsp\;</DIV></FONT>
LOCATION:Opportunity Works
UID:e.1189.964
SEQUENCE:3
DTSTAMP:20260424T083943Z
URL:https://business.newburyportchamber.org/events/details/non-profit-committee-may-05-21-2008-964
END:VEVENT

END:VCALENDAR
