BEGIN:VCALENDAR
VERSION:2.0
PRODID:-//ChamberMaster//Event Calendar 2.0//EN
METHOD:PUBLISH
X-PUBLISHED-TTL:P3D
REFRESH-INTERVAL:P3D
CALSCALE:GREGORIAN
BEGIN:VEVENT
DTSTART:20080618T040000Z
DTEND:20080618T040000Z
X-MICROSOFT-CDO-ALLDAYEVENT:FALSE
SUMMARY:Non Profit Committee - June
DESCRIPTION:Please join us for this month's Non Profit Meeting . NEW LOCATION!  Pettingill House\, 13 Lafayette Road\, Salisbury. For more information\, contact Ann Ormond at aormond@newburyportchamber.org or 978-462-6680 x15.
X-ALT-DESC;FMTTYPE=text/html:<DIV><FONT size=2>Please join us for this month's Non Profit Meeting .</FONT></DIV><DIV><FONT size=2></FONT>&nbsp\;</DIV><DIV><FONT size=2><FONT color=#ff0000><STRONG>NEW LOCATION!</STRONG></FONT>&nbsp\; Pettingill House\,&nbsp\;13 Lafayette Road\, Salisbury.</FONT></DIV><DIV><FONT size=2></FONT>&nbsp\;</DIV><DIV><FONT size=2>For more information\, contact Ann Ormond at <A href="mailto:aormond@newburyportchamber.org">aormond@newburyportchamber.org</A> or 978-462-6680 x15.</FONT></DIV>
LOCATION:The Chamber
UID:e.1189.965
SEQUENCE:3
DTSTAMP:20260422T193736Z
URL:https://business.newburyportchamber.org/events/details/non-profit-committee-june-06-18-2008-965
END:VEVENT

END:VCALENDAR
