BEGIN:VCALENDAR
VERSION:2.0
PRODID:-//ChamberMaster//Event Calendar 2.0//EN
METHOD:PUBLISH
X-PUBLISHED-TTL:P3D
REFRESH-INTERVAL:P3D
CALSCALE:GREGORIAN
BEGIN:VEVENT
DTSTART:20081217T050000Z
DTEND:20081217T050000Z
X-MICROSOFT-CDO-ALLDAYEVENT:FALSE
SUMMARY:Non Profit Committee - December
DESCRIPTION:Please join us for this month's Non Profit Meeting at the Chamber office. For more information\, contact Ann Ormond at aormond@newburyportchamber.org or 978-462-6680 x15.
X-ALT-DESC;FMTTYPE=text/html:<DIV><FONT size=2>Please join us for this month's Non Profit Meeting at the Chamber office.</FONT></DIV><DIV><DIV><FONT size=2></FONT>&nbsp\;</DIV><DIV><FONT size=2>For more information\, contact Ann Ormond at <A href="mailto:aormond@newburyportchamber.org">aormond@newburyportchamber.org</A> or 978-462-6680 x15.</FONT></DIV></DIV>
LOCATION:The Chamber
UID:e.1189.971
SEQUENCE:3
DTSTAMP:20260422T094106Z
URL:https://business.newburyportchamber.org/events/details/non-profit-committee-december-12-17-2008-971
END:VEVENT

END:VCALENDAR
