BEGIN:VCALENDAR
VERSION:2.0
PRODID:-//ChamberMaster//Event Calendar 2.0//EN
METHOD:PUBLISH
X-PUBLISHED-TTL:P3D
REFRESH-INTERVAL:P3D
CALSCALE:GREGORIAN
BEGIN:VEVENT
DTSTART:20120229T160000Z
DTEND:20120229T190000Z
X-MICROSOFT-CDO-ALLDAYEVENT:FALSE
SUMMARY:NH Soap Box Derby Competitors
DESCRIPTION:During New Hampshire's February school vacation week\, the Children's Museum of NH will host a special visit from two young NH Soap Box Derby competitors and their cars. Meet 12 year old Ryan Chasse and 11 year old Teal Borden and check out the actual cars that they have built and raced on the NH Soap Box Derby Circuit. Ryan competes in the stock car division\, while Teal competes in the super stock division.\n\n\n\nThe NH Soap Box Derby is a youth racing event that is open to boys and girls between the ages of 8 through 17 that reside in the State of New Hampshire.  This unique program encourages close parent-child activities while building and racing the car. The construction of the gravity race car reinforces the importance of setting and completing goals while developing traits such as self-confidence\, perseverance and craftsmanship. The youth is encouraged to do as much of the work on the car as their level permits\n\n\n\nRally races are held throughout the spring\, summer and fall in New Hampshire and around the United States. Rally races allow the racer to accumulate All-American Soap Box Derby Rally Points which potentially earns the driver the right to compete in the All-American's World Rally Championship held during the same week in July. More information can be found at www.nhsbd.home.comcast.net.\n\n\n\nThe Children's Museum of NH will be open Monday   Friday from 10 am   5 pm and Sunday from 12-5 pm for the New Hampshire school vacation week. Each day\, different science and creative activities will be available in the Muse Studio on the museum's first floor. NH school vacation week will include a Free Family Fun Night on Friday\, March 2 from 5:30   8 pm with the museum open to all at no charge.
X-ALT-DESC;FMTTYPE=text/html:<span style="font-size: 11px"><span style="color: black"><span style="font-family: arial\, sans-serif">&ndash\;&nbsp\;During New Hampshire&#39\;s February school vacation week\, the Children&rsquo\;s Museum of NH will host a special visit from two young NH Soap Box Derby competitors and their cars. Meet 12 year old Ryan Chasse and 11 year old Teal Borden and check out the actual cars that they have built and raced on the NH Soap Box Derby Circuit. Ryan competes in the stock car division\, while Teal competes in the super stock division.</span></span><br />\n<br />\n<span style="color: black"><span style="font-family: arial\, sans-serif">The NH Soap Box Derby is a youth racing event that is open to boys and girls between the ages of 8 through 17 that reside in the State of New Hampshire.&nbsp\; This unique program encourages close parent-child activities while building and racing the car. The construction of the gravity race car reinforces the importance of setting and completing goals while developing traits such as self-confidence\, perseverance and craftsmanship. The youth is encouraged to do as much of the work on the car as their level permits</span></span><br />\n<br />\n<span style="color: black"><span style="font-family: arial\, sans-serif">Rally races are held throughout the spring\, summer and fall in New Hampshire and around the United States. Rally races allow the racer to accumulate All-American Soap Box Derby Rally Points which potentially earns the driver the right to compete in the All-American&rsquo\;s World Rally Championship held during the same week in July. More information can be found at </span><a href="http://www.nhsbd.home.comcast.net/"><span style="color: #0000ff">www.nhsbd.home.comcast.net</span></a></span>.<br />\n<br />\n<span style="color: black"><span style="font-family: arial\, sans-serif">The Children&rsquo\;s Museum of NH will be open Monday &ndash\; Friday from 10 am &ndash\; 5 pm and Sunday from 12-5 pm for the New Hampshire school vacation week. Each day\, different science and creative activities will be available in the Muse Studio on the museum&#39\;s first floor. NH school vacation week will include a Free Family Fun Night on Friday\, March 2 from 5:30 &ndash\; 8 pm with the museum open to all at no charge.</span></span></span><br />\n
LOCATION:Children's Museum of New Hampshire 6 Washington Street\, Dover NH 03820
UID:e.1189.2943
SEQUENCE:3
DTSTAMP:20260419T140712Z
URL:https://business.newburyportchamber.org/events/details/nh-soap-box-derby-competitors-02-29-2012-2943
END:VEVENT

END:VCALENDAR
