BEGIN:VCALENDAR
VERSION:2.0
PRODID:-//ChamberMaster//Event Calendar 2.0//EN
METHOD:PUBLISH
X-PUBLISHED-TTL:P3D
REFRESH-INTERVAL:P3D
CALSCALE:GREGORIAN
BEGIN:VEVENT
DTSTART:20080815T040000Z
DTEND:20080815T040000Z
X-MICROSOFT-CDO-ALLDAYEVENT:FALSE
SUMMARY:Newburyport Waterfront Concert Series
DESCRIPTION:Enjoy a FREE concert at Newburyport's scenic Waterfront Park.  Mollie's Misfits\nThe Misfits are an acoustic band that specializes in traditional Celtic music. The Misfit repertoire includes: standard Irish pub songs (Wild Rover\, the Unicorn\, Mermaid Song\, Hills of Connamara\, Whiskey in the Jar\, etc.)\, rousing fiddle medleys (Irish\, Scottish\, Appalachian\, French Canadian\, and originals)\, 60's acoustic rock (The Beatles\, Bob Dylan\, etc.)\, contemporary folk/rock (Waterboys\, Steve Earl\, Saw Doctors\, etc.) and a variety of original songs.\n\nSponsored by Castagna Construction and The Newburyport Five Cents Savings Bank. Waterfront Park is located directly behind The Firehouse Center for the Arts in Market Square.
X-ALT-DESC;FMTTYPE=text/html:<DIV><FONT face=Tahoma color=#000080>Enjoy a FREE concert at Newburyport's scenic Waterfront Park. </FONT></DIV><DIV><FONT face=Tahoma color=#000080></FONT>&nbsp\;</DIV><DIV><FONT face=Tahoma color=#000080><STRONG>Mollie's Misfits<BR></STRONG>The Misfits are an acoustic band that specializes in traditional Celtic music. The Misfit repertoire includes: standard Irish pub songs (Wild Rover\, the Unicorn\, Mermaid Song\, Hills of Connamara\, Whiskey in the Jar\, etc.)\, rousing fiddle medleys (Irish\, Scottish\, Appalachian\, French Canadian\, and originals)\, 60's acoustic rock (The Beatles\, Bob Dylan\, etc.)\, contemporary folk/rock (Waterboys\, Steve Earl\, Saw Doctors\, etc.) and a variety of original songs<STRONG>.</STRONG><BR><BR></FONT><FONT face=Tahoma color=#000080></FONT></DIV><DIV><FONT face=Tahoma color=#000080>Sponsored by <STRONG>Castagna Construction</STRONG> and <STRONG>The Newburyport Five Cents Savings Bank.</STRONG></FONT></DIV><DIV><FONT face=Tahoma color=#000080></FONT>&nbsp\;</DIV><DIV><FONT face=Tahoma color=#000080>Waterfront Park is located directly behind The Firehouse Center for the Arts in Market Square.</FONT></DIV>
LOCATION:Waterfont Park
UID:e.1189.1004
SEQUENCE:3
DTSTAMP:20260422T181231Z
URL:https://business.newburyportchamber.org/events/details/newburyport-waterfront-concert-series-08-15-2008-1004
END:VEVENT

END:VCALENDAR
