BEGIN:VCALENDAR
VERSION:2.0
PRODID:-//ChamberMaster//Event Calendar 2.0//EN
METHOD:PUBLISH
X-PUBLISHED-TTL:P3D
REFRESH-INTERVAL:P3D
CALSCALE:GREGORIAN
BEGIN:VEVENT
DTSTART:20080808T040000Z
DTEND:20080808T040000Z
X-MICROSOFT-CDO-ALLDAYEVENT:FALSE
SUMMARY:Newburyport Waterfront Concert Series
DESCRIPTION:Enjoy a FREE concert at Newburyport's scenic Waterfront Park.  Sonny & PerleyEnjoy their unique blend of Jazz\, Brazilian\, American Songbook Standards\, and International Cabaret which has become their musical signature. They engagingly perform the timeless standards of the Great American Songbook such as Berlin\, Gershwin and Porter as well as the irresistible Brazilian melodies of Antonio Carlos Jobim. Sponsored by Castagna Construction and The Newburyport Five Cents Savings Bank. Waterfront Park is located directly behind The Firehouse Center for the Arts in Market Square.
X-ALT-DESC;FMTTYPE=text/html:<DIV><FONT face=Tahoma color=#000080>Enjoy a FREE concert at Newburyport's scenic Waterfront Park. </FONT></DIV><DIV><FONT face=Tahoma color=#000080></FONT>&nbsp\;</DIV><DIV><FONT color=#000080><FONT face=Tahoma><A dataFld=0:0 href="http://www.sonnyandperley.com/"><STRONG>Sonny &amp\; Perley</STRONG></A></FONT></FONT></DIV><DIV><FONT face=Verdana color=#000080>Enjoy their unique blend of Jazz\, Brazilian\, American Songbook Standards\, and International Cabaret which has become their musical signature. They engagingly perform the timeless standards of the Great American Songbook such as Berlin\, Gershwin and Porter as well as the irresistible Brazilian melodies of Antonio Carlos Jobim.</FONT></DIV><DIV><FONT face=Tahoma color=#000080></FONT>&nbsp\;</DIV><DIV><FONT face=Tahoma color=#000080>Sponsored by <STRONG>Castagna Construction</STRONG> and <STRONG>The Newburyport Five Cents Savings Bank.</STRONG></FONT></DIV><DIV><FONT face=Tahoma color=#000080></FONT>&nbsp\;</DIV><DIV><FONT face=Tahoma color=#000080>Waterfront Park is located directly behind The Firehouse Center for the Arts in Market Square.</FONT></DIV>
LOCATION:Waterfont Park
UID:e.1189.1002
SEQUENCE:3
DTSTAMP:20260422T162149Z
URL:https://business.newburyportchamber.org/events/details/newburyport-waterfront-concert-series-08-08-2008-1002
END:VEVENT

END:VCALENDAR
