BEGIN:VCALENDAR
VERSION:2.0
PRODID:-//ChamberMaster//Event Calendar 2.0//EN
METHOD:PUBLISH
X-PUBLISHED-TTL:P3D
REFRESH-INTERVAL:P3D
CALSCALE:GREGORIAN
BEGIN:VEVENT
DTSTART:20080725T040000Z
DTEND:20080725T040000Z
X-MICROSOFT-CDO-ALLDAYEVENT:FALSE
SUMMARY:Newburyport Waterfront Concert Series
DESCRIPTION:Enjoy a FREE concert at Newburyport's scenic Waterfront Park.  Dick Kaplan & The Legendary Moonlite Surfers\nEnjoy their brand of Surf rock\, blues and R & B. Featured on lead vocals and guitar is EJ Ouellette and Phyllis Fallon\, Boston's swingingest lady of song! The seven-piece ensemble also includes Johnny Battis on sax\, bassist Michael Gruen\, Dick Kaplan on trumpet\, Former Frank Sinatra keyboardist Bob Kiley on Piano and Carl Bergman on percussion. Sponsored by Castagna Construction and The Newburyport Five Cents Savings Bank. Waterfront Park is located directly behind The Firehouse Center for the Arts in Market Square.
X-ALT-DESC;FMTTYPE=text/html:<DIV><FONT face=Tahoma color=#000080>Enjoy a FREE concert at Newburyport's scenic Waterfront Park. </FONT></DIV><DIV><FONT face=Tahoma color=#000080></FONT>&nbsp\;</DIV><DIV><FONT color=#000080><FONT face=Verdana><STRONG>Dick Kaplan&nbsp\;&amp\; The Legendary Moonlite Surfers</STRONG></FONT><FONT color=#000080><BR><FONT face=Verdana>Enjoy their brand of Surf rock\, blues and R &amp\; B. Featured on lead vocals and guitar is EJ Ouellette and Phyllis Fallon\, Boston's swingingest lady of song! The seven-piece ensemble also includes Johnny Battis on sax\, bassist Michael Gruen\, Dick Kaplan on trumpet\, Former Frank Sinatra keyboardist Bob Kiley on Piano&nbsp\;and Carl Bergman on percussion.</FONT></FONT></FONT></DIV><DIV><FONT face=Tahoma color=#000080></FONT>&nbsp\;</DIV><DIV><FONT face=Tahoma color=#000080>Sponsored by <STRONG>Castagna Construction</STRONG> and <STRONG>The Newburyport Five Cents Savings Bank.</STRONG></FONT></DIV><DIV><FONT face=Tahoma color=#000080></FONT>&nbsp\;</DIV><DIV><FONT face=Tahoma color=#000080>Waterfront Park is located directly behind The Firehouse Center for the Arts in Market Square.</FONT></DIV>
LOCATION:Waterfont Park
UID:e.1189.1000
SEQUENCE:3
DTSTAMP:20260422T200456Z
URL:https://business.newburyportchamber.org/events/details/newburyport-waterfront-concert-series-07-25-2008-1000
END:VEVENT

END:VCALENDAR
