BEGIN:VCALENDAR
VERSION:2.0
PRODID:-//ChamberMaster//Event Calendar 2.0//EN
METHOD:PUBLISH
X-PUBLISHED-TTL:P3D
REFRESH-INTERVAL:P3D
CALSCALE:GREGORIAN
BEGIN:VEVENT
DTSTART:20090814T040000Z
DTEND:20090814T040000Z
X-MICROSOFT-CDO-ALLDAYEVENT:FALSE
SUMMARY:Newburyport Waterfront Concert
DESCRIPTION:Enjoy a FREE concert at Newburyport's scenic Waterfront Park. Enjoy Don’t Call Me Shirley as they play contemporary\, popular\, and classic hits from the 1960’s to today’s favorites. DCMS is a “wicked fun” band that entertains music lovers with a wide range of tastes from the folk rock of Simon and Garfunkel to the hard rock of the Rolling Stones. Shirley is a party band for the local lounge or the backyard summer blow-out. Sponsored by Lombardi Oil. Waterfront Park is located directly behind The Firehouse Center for the Arts in Market Square.
X-ALT-DESC;FMTTYPE=text/html:<DIV style="FONT-FAMILY: Arial"><DIV><SPAN style="FONT-FAMILY: Tahoma">Enjoy a FREE concert at Newburyport's scenic Waterfront Park.</SPAN></DIV><DIV><SPAN style="FONT-FAMILY: Tahoma"></SPAN>&nbsp\;</DIV><DIV><SPAN style="FONT-FAMILY: Tahoma">Enjoy Don’t Call Me Shirley as they play contemporary\, popular\, and classic hits from the 1960’s to today’s favorites. DCMS is a “wicked fun” band that entertains music lovers with a wide range of tastes from the folk rock of Simon and Garfunkel to the hard rock of the Rolling Stones. Shirley is a party band for the local lounge or the backyard summer blow-out.</SPAN></DIV><DIV><SPAN style="FONT-FAMILY: Tahoma"></SPAN>&nbsp\;</DIV><DIV><SPAN style="FONT-FAMILY: Tahoma">Sponsored by Lombardi Oil.</SPAN></DIV><DIV><SPAN style="FONT-FAMILY: Tahoma"></SPAN>&nbsp\;</DIV><DIV><SPAN style="FONT-FAMILY: Tahoma">Waterfront Park is located directly behind The Firehouse Center for the Arts in Market Square.</SPAN></DIV></DIV>
LOCATION:Waterfont Park
UID:e.1189.1272
SEQUENCE:3
DTSTAMP:20260421T202417Z
URL:https://business.newburyportchamber.org/events/details/newburyport-waterfront-concert-08-14-2009-1272
END:VEVENT

END:VCALENDAR
