BEGIN:VCALENDAR
VERSION:2.0
PRODID:-//ChamberMaster//Event Calendar 2.0//EN
METHOD:PUBLISH
X-PUBLISHED-TTL:P3D
REFRESH-INTERVAL:P3D
CALSCALE:GREGORIAN
BEGIN:VEVENT
DTSTART:20100530T040000Z
DTEND:20100531T040000Z
X-MICROSOFT-CDO-ALLDAYEVENT:FALSE
SUMMARY:Newburyport Spring Fest
DESCRIPTION:Welcome spring to Newburyport!  Held annually on Memorial Day Weekend in historic downtown Newburyport\, Spring Fest is a two-day festival featuring great live music\, art\, fine crafts\, food from Newburyport’s best restaurants and Kid’s Korner featuring entertainment for children and families.\n\nFor more details\, call the Chamber office at 978-462-6680 or click HERE!
X-ALT-DESC;FMTTYPE=text/html:<P><FONT face=Calibri size=2><SPAN style="FONT-SIZE: x-small\; FONT-FAMILY: 'Century Gothic'">Welcome spring to Newburyport!&nbsp\; Held annually on Memorial Day Weekend in historic downtown Newburyport\, Spring Fest is a two-day festival featuring great live music\, art\, fine crafts\, food from Newburyport’s best restaurants and Kid’s Korner featuring entertainment for children and families.<BR><BR>For more details\, call the Chamber office at 978-462-6680 or click <A dataFld=0:0 title="" style="COLOR: blue\; TEXT-DECORATION: underline" href="http://www.newburyportchamber.org/Springfest.shtml" target=_NewWindow>HERE</A>!</SPAN></FONT></P>
LOCATION:Downtown Newburyport
UID:e.1189.1369
SEQUENCE:3
DTSTAMP:20260421T050511Z
URL:https://business.newburyportchamber.org/events/details/newburyport-spring-fest-05-30-2010-1369
END:VEVENT

END:VCALENDAR
