BEGIN:VCALENDAR
VERSION:2.0
PRODID:-//ChamberMaster//Event Calendar 2.0//EN
METHOD:PUBLISH
X-PUBLISHED-TTL:P3D
REFRESH-INTERVAL:P3D
CALSCALE:GREGORIAN
BEGIN:VEVENT
DTSTART:20090524T040000Z
DTEND:20090525T040000Z
X-MICROSOFT-CDO-ALLDAYEVENT:FALSE
SUMMARY:Newburyport Spring Fest!
DESCRIPTION:Spend Memorial Day Weekend in Newburyport!  Quality crafts\, great food\, live music\, kids entertainment\, and more! Newburyport Spring FestSunday & Monday\, May 24 & 25\, 10 AM – 5 PMDowntown NewburyportLead Sponsor: Comcast Live Entertainment on both daysMarket Square Stage\, 1:00 – 4:00 PMSunday – Don’t Call Me ShirleyMonday – Cloverfield Kid’s KornerWaterfront Park12:00 – 3:00 PM\, Sunday only            11:45 – 12:00      Gather for Parade12:00 – 12:15      Teddy Bear Parade!12:15 – 1:00      Brian Doser\, Classic sing-along songs1:00 – 1:45          Martha Dana\, Puppeteer & Story-teller2:00 – 3:00          Brian Doser
X-ALT-DESC;FMTTYPE=text/html:<DIV style="FONT-FAMILY: Arial"><FONT color=#0f0f0f size=2><DIV style="FONT-FAMILY: Arial"><FONT color=#0f0f0f><P class=MsoNormal style="MARGIN: 0in 0in 0pt"><FONT color=#000000><FONT size=3><SPAN style="FONT-SIZE: 11pt\; FONT-FAMILY: Arial">Spend Memorial Day Weekend in </SPAN><?xml:namespace prefix = st1 ns = "urn:schemas-microsoft-com:office:smarttags" /><st1:City><st1:place><SPAN style="FONT-SIZE: 11pt\; FONT-FAMILY: Arial">Newburyport</SPAN></st1:place></st1:City><SPAN style="FONT-SIZE: 11pt\; FONT-FAMILY: Arial">!&nbsp\; <SPAN style="FONT-SIZE: 11pt\; FONT-FAMILY: Arial">Quality crafts\, great food\, live music\, kids entertainment\, and more!</SPAN><SPAN style="FONT-FAMILY: Arial"><?xml:namespace prefix = o ns = "urn:schemas-microsoft-com:office:office" /><o:p></o:p></SPAN></SPAN><SPAN style="FONT-FAMILY: Arial"><o:p></o:p></SPAN></FONT></FONT></P><P class=MsoNormal style="MARGIN: 0in 0in 0pt"><FONT color=#000000><FONT size=3><SPAN style="FONT-SIZE: 11pt\; FONT-FAMILY: Arial">&nbsp\;</SPAN><SPAN style="FONT-FAMILY: Arial"><o:p></o:p></SPAN></FONT></FONT></P><P class=MsoNormal style="MARGIN: 0in 0in 0pt"><FONT color=#000000><FONT size=3><SPAN style="FONT-SIZE: 11pt\; FONT-FAMILY: Arial">Newburyport Spring Fest</SPAN><SPAN style="FONT-FAMILY: Arial"><o:p></o:p></SPAN></FONT></FONT></P><P class=MsoNormal style="MARGIN: 0in 0in 0pt"><FONT color=#000000><FONT size=3><SPAN style="FONT-SIZE: 11pt\; FONT-FAMILY: Arial">Sunday &amp\; Monday\, May 24 &amp\; 25\, </SPAN></FONT></FONT><FONT color=#000000><FONT size=3><st1:time Hour="10" Minute="0"><SPAN style="FONT-SIZE: 11pt\; FONT-FAMILY: Arial">10 AM – 5 PM</SPAN></st1:time><SPAN style="FONT-FAMILY: Arial"><o:p></o:p></SPAN></FONT></FONT></P><P class=MsoNormal style="MARGIN: 0in 0in 0pt"><FONT color=#000000><FONT size=3><SPAN style="FONT-SIZE: 11pt\; FONT-FAMILY: Arial">Downtown </SPAN><st1:City><st1:place><SPAN style="FONT-SIZE: 11pt\; FONT-FAMILY: Arial">Newburyport</SPAN></st1:place></st1:City><SPAN style="FONT-FAMILY: Arial"><o:p></o:p></SPAN></FONT></FONT></P><P class=MsoNormal style="MARGIN: 0in 0in 0pt"><FONT color=#000000><FONT size=3><SPAN style="FONT-SIZE: 11pt\; FONT-FAMILY: Arial">Lead Sponsor: Comcast</SPAN><SPAN style="FONT-FAMILY: Arial"><o:p></o:p></SPAN></FONT></FONT></P><P class=MsoNormal style="MARGIN: 0in 0in 0pt"><FONT color=#000000><FONT size=3><SPAN style="FONT-SIZE: 11pt\; FONT-FAMILY: Arial">&nbsp\;</SPAN><SPAN style="FONT-FAMILY: Arial"><o:p></o:p></SPAN></FONT></FONT></P><P class=MsoNormal style="MARGIN: 0in 0in 0pt"><FONT color=#000000><FONT size=3><SPAN style="FONT-SIZE: 11pt\; FONT-FAMILY: Arial">Live Entertainment on both days</SPAN><SPAN style="FONT-FAMILY: Arial"><o:p></o:p></SPAN></FONT></FONT></P><P class=MsoNormal style="MARGIN: 0in 0in 0pt"><FONT color=#000000><FONT size=3><SPAN style="FONT-SIZE: 11pt\; FONT-FAMILY: Arial">Market Square Stage\, </SPAN><st1:time Hour="13" Minute="0"><SPAN style="FONT-SIZE: 11pt\; FONT-FAMILY: Arial">1:00 – 4:00 PM</SPAN></st1:time><SPAN style="FONT-FAMILY: Arial"><o:p></o:p></SPAN></FONT></FONT></P><P class=MsoNormal style="MARGIN: 0in 0in 0pt\; TEXT-INDENT: 0.5in"><FONT color=#000000><SPAN style="FONT-SIZE: 11pt\; FONT-FAMILY: Arial"><FONT size=3>Sunday – </FONT><A href="http://dontcallmeshirley.info/" target=_blank><FONT color=#0f0f0f size=3>Don’t Call Me Shirley</FONT></A></SPAN><SPAN style="FONT-FAMILY: Arial"><o:p></o:p></SPAN></FONT></P><P class=MsoNormal style="MARGIN: 0in 0in 0pt\; TEXT-INDENT: 0.5in"><FONT color=#000000><FONT size=3><SPAN style="FONT-SIZE: 11pt\; FONT-FAMILY: Arial">Monday – Cloverfield</SPAN><SPAN style="FONT-FAMILY: Arial"><o:p></o:p></SPAN></FONT></FONT></P><P class=MsoNormal style="MARGIN: 0in 0in 0pt"><FONT color=#000000><FONT size=3><SPAN style="FONT-SIZE: 11pt\; FONT-FAMILY: Arial">&nbsp\;</SPAN><SPAN style="FONT-FAMILY: Arial"><o:p></o:p></SPAN></FONT></FONT></P><P class=MsoNormal style="MARGIN: 0in 0in 0pt"><FONT color=#000000><FONT size=3><SPAN style="FONT-SIZE: 11pt\; FONT-FAMILY: Arial">Kid’s Korner</SPAN><SPAN style="FONT-FAMILY: Arial"><o:p></o:p></SPAN></FONT></FONT></P><P class=MsoNormal style="MARGIN: 0in 0in 0pt"><FONT color=#000000><FONT size=3><st1:place><st1:PlaceName><SPAN style="FONT-SIZE: 11pt\; FONT-FAMILY: Arial">Waterfront</SPAN></st1:PlaceName><SPAN style="FONT-SIZE: 11pt\; FONT-FAMILY: Arial"> </SPAN><st1:PlaceType><SPAN style="FONT-SIZE: 11pt\; FONT-FAMILY: Arial">Park</SPAN></st1:PlaceType></st1:place><SPAN style="FONT-FAMILY: Arial"><o:p></o:p></SPAN></FONT></FONT></P><P class=MsoNormal style="MARGIN: 0in 0in 0pt"><FONT color=#000000><FONT size=3><st1:time Hour="12" Minute="0"><SPAN style="FONT-SIZE: 11pt\; FONT-FAMILY: Arial">12:00 – 3:00 PM</SPAN></st1:time><SPAN style="FONT-SIZE: 11pt\; FONT-FAMILY: Arial">\, Sunday only</SPAN><SPAN style="FONT-FAMILY: Arial"><o:p></o:p></SPAN></FONT></FONT></P><P class=MsoNormal style="MARGIN: 0in 0in 0pt"><FONT color=#000000><FONT size=3><SPAN style="FONT-SIZE: 11pt\; FONT-FAMILY: Arial">&nbsp\;&nbsp\;&nbsp\;&nbsp\;&nbsp\;&nbsp\;&nbsp\;&nbsp\;&nbsp\;&nbsp\;&nbsp\;&nbsp\;</SPAN><st1:time Hour="11" Minute="45"><SPAN style="FONT-SIZE: 11pt\; FONT-FAMILY: Arial">11:45 – 12:00</SPAN></st1:time><SPAN style="FONT-SIZE: 11pt\; FONT-FAMILY: Arial">&nbsp\;&nbsp\;&nbsp\;&nbsp\;&nbsp\; Gather for Parade</SPAN><SPAN style="FONT-FAMILY: Arial"><o:p></o:p></SPAN></FONT></FONT></P><P class=MsoNormal style="MARGIN: 0in 0in 0pt\; TEXT-INDENT: 0.5in"><FONT color=#000000><FONT size=3><st1:time Hour="12" Minute="0"><SPAN style="FONT-SIZE: 11pt\; FONT-FAMILY: Arial">12:00 – 12:15</SPAN></st1:time><SPAN style="FONT-SIZE: 11pt\; FONT-FAMILY: Arial">&nbsp\;&nbsp\;&nbsp\;&nbsp\;&nbsp\; Teddy Bear Parade!</SPAN><SPAN style="FONT-FAMILY: Arial"><o:p></o:p></SPAN></FONT></FONT></P><P class=MsoNormal style="MARGIN: 0in 0in 0pt\; TEXT-INDENT: 0.5in"><FONT color=#000000><SPAN style="FONT-SIZE: 11pt\; FONT-FAMILY: Arial"><FONT size=3>12:15 – 1:00&nbsp\;&nbsp\;&nbsp\;&nbsp\;&nbsp\;&nbsp\;</FONT><A href="http://www.briandoser.com" target=_blank><FONT color=#0f0f0f size=3>Brian Doser</FONT></A><FONT size=3>\, Classic sing-along songs</FONT></SPAN></FONT></P><P class=MsoNormal style="MARGIN: 0in 0in 0pt\; TEXT-INDENT: 0.5in"><FONT color=#000000><FONT size=3><st1:time Hour="13" Minute="0"><SPAN style="FONT-SIZE: 11pt\; FONT-FAMILY: Arial">1:00 – 1:45</SPAN></st1:time><SPAN style="FONT-SIZE: 11pt\; FONT-FAMILY: Arial">&nbsp\;&nbsp\;&nbsp\;&nbsp\;&nbsp\;&nbsp\;&nbsp\;&nbsp\;&nbsp\;&nbsp\;Martha Dana\, Puppeteer &amp\; Story-teller</SPAN><SPAN style="FONT-FAMILY: Arial"><o:p></o:p></SPAN></FONT></FONT></P><P class=MsoNormal style="MARGIN: 0in 0in 0pt\; TEXT-INDENT: 0.5in"><FONT color=#000000><FONT size=3><st1:time Hour="14" Minute="0"><SPAN style="FONT-SIZE: 11pt\; FONT-FAMILY: Arial">2:00 – 3:00</SPAN></st1:time><SPAN style="FONT-SIZE: 11pt\; FONT-FAMILY: Arial">&nbsp\;&nbsp\;&nbsp\;&nbsp\;&nbsp\;&nbsp\;&nbsp\;&nbsp\;&nbsp\;&nbsp\;<A href="http://www.briandoser.com" target=_blank><FONT color=#0f0f0f>Brian Doser</FONT></A></SPAN></FONT></FONT></FONT></P></DIV></FONT></DIV>
LOCATION:Downtown Newburyport
UID:e.1189.1233
SEQUENCE:3
DTSTAMP:20260422T005957Z
URL:https://business.newburyportchamber.org/events/details/newburyport-spring-fest-05-24-2009-1233
END:VEVENT

END:VCALENDAR
