BEGIN:VCALENDAR
VERSION:2.0
PRODID:-//ChamberMaster//Event Calendar 2.0//EN
METHOD:PUBLISH
X-PUBLISHED-TTL:P3D
REFRESH-INTERVAL:P3D
CALSCALE:GREGORIAN
BEGIN:VEVENT
DTSTART:20080502T040000Z
DTEND:20080502T040000Z
X-MICROSOFT-CDO-ALLDAYEVENT:FALSE
SUMMARY:Newburyport's Spring Invitation Nights!
DESCRIPTION:Join the Merchants of Downtown Newburyport for a Spring Invitation Night. Enjoy Merchant Hospitality and Light Refreshments. This is the perfect time to look for a special Mother's Day Gift!
X-ALT-DESC;FMTTYPE=text/html:<DIV>Join the Merchants of Downtown Newburyport for a Spring Invitation Night. Enjoy Merchant Hospitality and Light Refreshments.</DIV><DIV>&nbsp\;</DIV><DIV>This is the perfect time to look for a special Mother's Day Gift!</DIV>
LOCATION:Downtown Newburyport
UID:e.1189.942
SEQUENCE:3
DTSTAMP:20260424T083957Z
URL:https://business.newburyportchamber.org/events/details/newburyport-s-spring-invitation-nights-05-02-2008-942
END:VEVENT

END:VCALENDAR
