BEGIN:VCALENDAR
VERSION:2.0
PRODID:-//ChamberMaster//Event Calendar 2.0//EN
METHOD:PUBLISH
X-PUBLISHED-TTL:P3D
REFRESH-INTERVAL:P3D
CALSCALE:GREGORIAN
BEGIN:VEVENT
DTSTART:20111022T220000Z
DTEND:20111023T010000Z
X-MICROSOFT-CDO-ALLDAYEVENT:FALSE
SUMMARY:Newburyport's Great Pumpkin Lighting and Stroll
DESCRIPTION:Newburyport's Great Pumpkin Lighting and Stroll is a new family\, friendly event that will take place on Saturday\, October 22\, 2011 from 6 - 9 PM in Market Square. Familes are encouraged and invited to bring a carved pumpkin that wil be lit and placed on the stairs of Market Square for all to enjoy! Each family will receive a votive candle that will be lit all at once at dusk - approximately 6:15 PM.\n\n\n\nAfter the lighting\, attendees are encouraged to stroll the downtown and Tannery to "ooh and ahh" at all the pumpkins designed by local businesses! At the end of the evening families are asked to take their pumpkins home for safe keeping.\n\n\n\nActivities include music\, refreshments\, and much more to be announced!\n\n\n\nThis event is brought to you by the Greater Newburyport Chamber of Commerce and our retail members!\n\n\n\nTea Lights sponsored by Partridge in a Bear Tree.
X-ALT-DESC;FMTTYPE=text/html:Newburyport&#39\;s Great Pumpkin Lighting and Stroll is a new family\, friendly event that will take place on Saturday\, October 22\, 2011 from 6 - 9 PM in Market Square. Familes are encouraged and invited to bring a carved pumpkin that wil be lit and placed on the stairs of Market Square for all to enjoy! Each family will receive a votive candle that will be lit&nbsp\;all at once at dusk - approximately 6:15 PM.<br />\n<br />\nAfter the lighting\, attendees are encouraged to stroll the downtown and Tannery to &quot\;ooh and ahh&quot\; at all the pumpkins designed by local businesses! At the end of the evening families are asked to take their pumpkins home for safe keeping.<br />\n<br />\nActivities include music\, refreshments\, and much more to be announced!<br />\n<br />\nThis event is brought to you by the Greater Newburyport Chamber of Commerce and our retail members!<br />\n<br />\nTea Lights sponsored by Partridge in a Bear Tree.<br />\n
LOCATION:Market Square in downtown Newburyport for the lighting and then stroll the downtown to the Tannery Marketplace and beyond!
UID:e.1189.2229
SEQUENCE:3
DTSTAMP:20260419T191830Z
URL:https://business.newburyportchamber.org/events/details/newburyport-s-great-pumpkin-lighting-and-stroll-10-22-2011-2229
END:VEVENT

END:VCALENDAR
