BEGIN:VCALENDAR
VERSION:2.0
PRODID:-//ChamberMaster//Event Calendar 2.0//EN
METHOD:PUBLISH
X-PUBLISHED-TTL:P3D
REFRESH-INTERVAL:P3D
CALSCALE:GREGORIAN
BEGIN:VEVENT
DTSTART:20080802T040000Z
DTEND:20080802T040000Z
X-MICROSOFT-CDO-ALLDAYEVENT:FALSE
SUMMARY:Newburyport Police Station Open House
DESCRIPTION:In celebration of Yankee Homecoming\, Newburyport Police Department will be offer station tours\, balloons and ice cream and there will be a display of police vehicles.
X-ALT-DESC;FMTTYPE=text/html:<DIV>In celebration of Yankee Homecoming\, Newburyport Police Department will be offer station tours\, balloons and ice cream and there will be a display of police vehicles.</DIV>
LOCATION:Newburyport Police Department
UID:e.1189.1031
SEQUENCE:3
DTSTAMP:20260422T162629Z
URL:https://business.newburyportchamber.org/events/details/newburyport-police-station-open-house-08-02-2008-1031
END:VEVENT

END:VCALENDAR
