BEGIN:VCALENDAR
VERSION:2.0
PRODID:-//ChamberMaster//Event Calendar 2.0//EN
METHOD:PUBLISH
X-PUBLISHED-TTL:P3D
REFRESH-INTERVAL:P3D
CALSCALE:GREGORIAN
BEGIN:VEVENT
DTSTART:20120216T233000Z
DTEND:20120217T010000Z
X-MICROSOFT-CDO-ALLDAYEVENT:FALSE
SUMMARY:Newburyport Open Space and Recreation Plan Public Meeting
DESCRIPTION:The City of Newburyport is hosting a public meeting on Thursday\, February 16 from 6:30pm to 8pm at the Public Library. We are looking for your ideas on how we can make Newburyport's open spaces and recreation areas great for all to enjoy!\n\n\n\nDo you have ideas about how to improve parks and playgrounds?\n\nAre you interested in protecting scenic areas?\n\nDo you want more recreational activities offered for adults or kids?\n\nDo you know where to find information about parks?\n\nDo you know where to find walking trails on City lands?\n\nDo we need more athletic fields?\n\nAre you a rail trail enthusiast?\n\nDo you use the dog parks?\n\nIs there a particular property you'd like protected?\n\n\n\nIf you answered yes to any of the questions above or have other ideas you'd like to share please come to the Public Meeting.\n\n\n\nWe'd also like to invite you to complete our on-line survey at www.surveymonkey.com/NewburyportOSRP2012 .
X-ALT-DESC;FMTTYPE=text/html:The City of Newburyport is hosting a public meeting on Thursday\, February 16 from 6:30pm to 8pm at the Public Library. We are looking for your ideas on how we can make Newburyport&#39\;s open spaces and recreation areas great for all to enjoy!<br />\n<br />\nDo you have ideas about how to improve parks and playgrounds?<br />\nAre you interested in protecting scenic areas?<br />\nDo you want more recreational activities offered for adults or kids?<br />\nDo you know where to find information about parks?<br />\nDo you know where to find walking trails on City lands?<br />\nDo we need more athletic fields?<br />\nAre you a rail trail enthusiast?<br />\nDo you use the dog parks?<br />\nIs there a particular property you&rsquo\;d like protected?<br />\n<br />\nIf you answered yes to any of the questions above or have other ideas you&rsquo\;d like to share please come to the Public Meeting.<br />\n<br />\nWe&rsquo\;d also like to invite you to complete our on-line survey at <a href="http://www.surveymonkey.com/NewburyportOSRP2012">www.surveymonkey.com/NewburyportOSRP2012</a> .<br />\n
LOCATION:Program Room\, Newburyport Public Library State Street Newburyport
UID:e.1189.2916
SEQUENCE:3
DTSTAMP:20260419T141447Z
URL:https://business.newburyportchamber.org/events/details/newburyport-open-space-and-recreation-plan-public-meeting-02-16-2012-2916
END:VEVENT

END:VCALENDAR
