BEGIN:VCALENDAR
VERSION:2.0
PRODID:-//ChamberMaster//Event Calendar 2.0//EN
METHOD:PUBLISH
X-PUBLISHED-TTL:P3D
REFRESH-INTERVAL:P3D
CALSCALE:GREGORIAN
BEGIN:VEVENT
DTSTART:20110905T140000Z
DTEND:20110905T220000Z
X-MICROSOFT-CDO-ALLDAYEVENT:FALSE
SUMMARY:Newburyport Labor Day Festival
DESCRIPTION:The events will be in Market Square and on Inn St. We are bringing back the buskers this year and a limited amount of musical entertainment\, plus crafters\, charity tables\, food vendors\, children's entertainment\, a dog walking parade and much more. Something for everyone.
X-ALT-DESC;FMTTYPE=text/html:<div>\n	The events will be in Market Square and on Inn St. We are bringing back the buskers this year and a limited amount of musical entertainment\, plus crafters\, charity tables\, food vendors\, children&#39\;s entertainment\, a dog walking parade and much more. Something for everyone.</div>\n
LOCATION:Market Square Newburyport
UID:e.1189.1966
SEQUENCE:3
DTSTAMP:20260419T230152Z
URL:https://business.newburyportchamber.org/events/details/newburyport-labor-day-festival-09-05-2011-1966
END:VEVENT

END:VCALENDAR
