BEGIN:VCALENDAR
VERSION:2.0
PRODID:-//ChamberMaster//Event Calendar 2.0//EN
METHOD:PUBLISH
X-PUBLISHED-TTL:P3D
REFRESH-INTERVAL:P3D
CALSCALE:GREGORIAN
BEGIN:VEVENT
DTSTART:20110611T140000Z
DTEND:20110612T200000Z
X-MICROSOFT-CDO-ALLDAYEVENT:FALSE
SUMMARY:NEWBURYPORT GARDEN TOUR
DESCRIPTION:Tour spectacular gardens throughout the Newburyport area in a fundraiser to benefit the Historical Society of Old Newbury. Enjoy the many gardens and shop at the unrivaled Plant Sale. Tickets $20 before June 1st and $25 after June 1st. www.newburyportgardentour.com
X-ALT-DESC;FMTTYPE=text/html:Tour spectacular gardens throughout the Newburyport area in a fundraiser to benefit the Historical Society of Old Newbury. Enjoy the many gardens and shop at the unrivaled Plant Sale. Tickets $20 before June 1st and $25 after June 1st. <a href="http://www.newburyportgardentour.com">www.newburyportgardentour.com</a>
LOCATION:Cushing House Museum and Gardens 98 High Street Newburyport
UID:e.1189.1865
SEQUENCE:3
DTSTAMP:20260420T040548Z
URL:https://business.newburyportchamber.org/events/details/newburyport-garden-tour-06-11-2011-1865
END:VEVENT

END:VCALENDAR
