BEGIN:VCALENDAR
VERSION:2.0
PRODID:-//ChamberMaster//Event Calendar 2.0//EN
METHOD:PUBLISH
X-PUBLISHED-TTL:P3D
REFRESH-INTERVAL:P3D
CALSCALE:GREGORIAN
BEGIN:VEVENT
DTSTART:20110801T230000Z
DTEND:20110802T010000Z
X-MICROSOFT-CDO-ALLDAYEVENT:FALSE
SUMMARY:Newburyport Choral Society Community Sing
DESCRIPTION:Newburyport Choral Society invites you to Join your voice with ours or come and simply enjoy the glorious music  in a Community Sing. \n\n\n\nCommunity Sing Mozart Requiem Monday\, August 1\, at 7 p.m.\n\nConducted by NCS Music Director\, Dr. Gerald Weale\n\n\n\nBrief Introduction to Mozart by Dr. G. Weale\n\n\n\nCentral Congregational Church\, 14 Titcomb St.\, Newburyport MA\n\nOpen to all ~ Free Admission ~ Reception Following\n\n\n\nThis program is supported in part by grants from the Boston Foundation and from the Amesbury\, Newbury\, Salisbury\, and West Newbury Cultural Councils\, local agencies\, supported by the Massachusetts Cultural Council\, a state agency.\n\n\n\nNCS: 978-462-0650 or www.newburyportchoralsociety.org
X-ALT-DESC;FMTTYPE=text/html:Newburyport Choral Society invites you to Join your voice with ours or come and simply enjoy the glorious music &nbsp\;in a Community Sing.&nbsp\;<br />\n<br />\n<strong>Community Sing <em>Mozart Requiem&nbsp\;Monday\, August 1\, at 7 p.m.</em></strong><br />\nConducted by NCS Music Director\, Dr. Gerald Weale<br />\n<br />\nBrief Introduction to Mozart by Dr. G. Weale<br />\n<br />\nCentral Congregational Church\, 14 Titcomb St.\, Newburyport MA<br />\nOpen to all ~ Free Admission ~ Reception Following<br />\n<br />\nThis program is supported in part by grants from the Boston Foundation and from the Amesbury\, Newbury\, Salisbury\, and West Newbury Cultural Councils\, local agencies\, supported by the Massachusetts Cultural Council\, a state agency.<br />\n<br />\nNCS: 978-462-0650 or www.newburyportchoralsociety.org<br />\n&nbsp\;
LOCATION:Central Congregational Church\, 14 Titcomb Street\, Newburyport\, MA
UID:e.1189.2086
SEQUENCE:3
DTSTAMP:20260419T230100Z
URL:https://business.newburyportchamber.org/events/details/newburyport-choral-society-community-sing-08-01-2011-2086
END:VEVENT

END:VCALENDAR
