BEGIN:VCALENDAR
VERSION:2.0
PRODID:-//ChamberMaster//Event Calendar 2.0//EN
METHOD:PUBLISH
X-PUBLISHED-TTL:P3D
REFRESH-INTERVAL:P3D
CALSCALE:GREGORIAN
BEGIN:VEVENT
DTSTART:20080730T040000Z
DTEND:20080730T040000Z
X-MICROSOFT-CDO-ALLDAYEVENT:FALSE
SUMMARY:Newburyport Brewfest 2008
DESCRIPTION:Sample more than 30 craft beers from some of the finest brewers in the country. Dance to the great music of local legend EJ Ouellette & Crazy Maggy Dine on good from The Grog and David's Tavern. All Brewfest proceeds benefit C-10 Research & Education Foundation. Tickets are $25 in advance and $30 at the door and are available at www.newburyportbrewfest.com or 800-838-3006
X-ALT-DESC;FMTTYPE=text/html:<DIV><FONT face=Arial>Sample more than 30 craft beers from some of the finest brewers in the country.</FONT></DIV><DIV><FONT face=Arial></FONT>&nbsp\;</DIV><DIV><FONT face=Arial>Dance to the great music of local legend EJ Ouellette &amp\; Crazy Maggy</FONT></DIV><DIV><FONT face=Arial></FONT>&nbsp\;</DIV><DIV><FONT face=Arial>Dine on good from The Grog and David's Tavern.</FONT></DIV><DIV><FONT face=Arial></FONT>&nbsp\;</DIV><DIV><FONT face=Arial>All Brewfest proceeds benefit C-10 Research &amp\; Education Foundation.</FONT></DIV><DIV><FONT face=Arial></FONT>&nbsp\;</DIV><DIV><FONT face=Arial>Tickets are $25 in advance and $30 at the door and are available at </FONT><A href="http://www.newburyportbrewfest.com"><FONT face=Arial>www.newburyportbrewfest.com</FONT></A><FONT face=Arial> or 800-838-3006</FONT></DIV>
LOCATION:Downtown Newburyport
UID:e.1189.1005
SEQUENCE:3
DTSTAMP:20260422T200256Z
URL:https://business.newburyportchamber.org/events/details/newburyport-brewfest-2008-07-30-2008-1005
END:VEVENT

END:VCALENDAR
