BEGIN:VCALENDAR
VERSION:2.0
PRODID:-//ChamberMaster//Event Calendar 2.0//EN
METHOD:PUBLISH
X-PUBLISHED-TTL:P3D
REFRESH-INTERVAL:P3D
CALSCALE:GREGORIAN
BEGIN:VEVENT
DTSTART:20111015T190000Z
DTEND:20111015T230000Z
X-MICROSOFT-CDO-ALLDAYEVENT:FALSE
SUMMARY:Newburyport Art Walk
DESCRIPTION:Explore the Art of Newburyport!\n\nNewburyport ArtWalk Galleries invite you to experience our self-guided walking tour.  For current exhibitions\, updates and special event details visit:\n\nwww.newburyportartwalk.com\n\nOn ArtWalk Special Event Days\, you will find an array of activities at participating galleries and studios including music\, demonstrations\, artist receptions\, refreshments and more.  Look for the blue and yellow balloons displayed at ArtWalk Sites.\n\nArtWalk galleries and studios are open year-round. Visit us any time!
X-ALT-DESC;FMTTYPE=text/html:Explore the Art of Newburyport!<br />\nNewburyport ArtWalk Galleries invite you to experience our self-guided walking tour.&nbsp\; For current exhibitions\, updates and special event details visit:<br />\nwww.newburyportartwalk.com<br />\nOn ArtWalk Special Event Days\, you will find an array of activities at participating galleries and studios including music\, demonstrations\, artist receptions\, refreshments and more.&nbsp\; Look for the blue and yellow balloons displayed at ArtWalk Sites.<br />\nArtWalk galleries and studios are open year-round. Visit us any time!<br />\n
LOCATION:
UID:e.1189.2270
SEQUENCE:3
DTSTAMP:20260419T211414Z
URL:https://business.newburyportchamber.org/events/details/newburyport-art-walk-10-15-2011-2270
END:VEVENT

END:VCALENDAR
