BEGIN:VCALENDAR
VERSION:2.0
PRODID:-//ChamberMaster//Event Calendar 2.0//EN
METHOD:PUBLISH
X-PUBLISHED-TTL:P3D
REFRESH-INTERVAL:P3D
CALSCALE:GREGORIAN
BEGIN:VEVENT
DTSTART:20120101T000000Z
DTEND:20120101T050000Z
X-MICROSOFT-CDO-ALLDAYEVENT:FALSE
SUMMARY:New Year's Eve Party
DESCRIPTION:NEW YEAR'S EVE PARTY!!!\n\n	\n\n	Keon's Casino Royal\n\n	Vegas Style!\n\n	\n\n	Saturday \, Deecmber 31st 7:30pm-12:30am\n\n	Cocktail Hour-Dinner-Casino Tables-Dancing-Countdown\n\n	\n\n	VEGAS STYLE BUFFET\n\n	Featuring Hors D'oeuvres\, Soups\, Salads\, Carved Prime Rib\, Roast Turkey\, Seafood Newburg\, Petite Filet Mignon\, Apple Cornbread Stuffed Chicken\, Seafood Stuffed Sole\, Crusted Haddock\, Pasta Station\, Gourmet Pastries\, Desserts and MUCH MORE!\n\n	\n\n	CASINO TABLES\n\n	Play your hand at your favorite Vegas games featuring Black Jack\, Roulette\, Craps and win some great raffle prizes\n\n	\n\n	Music Provided by Boston's BestNu Image Entertainment!\n\n	Champagne Toast & Balloon Drop at Midnight\n\n	$75 per person +tax ($50 off parties of 10ppl.)\n\n	\n\n	Call for Tickets 978-352-2991!\n\n	\n\n	*Participants in the NYE AAA safe driving program.
X-ALT-DESC;FMTTYPE=text/html:<p style="text-align: center">\n	<span style="color: #0000ff"><span style="font-size: 16px">NEW YEAR&#39\;S EVE PARTY!!!</span></span><br />\n	<br />\n	<span style="color: #ff0000"><span style="font-size: 14px">Keon&#39\;s Casino Royal<br />\n	Vegas Style!</span></span><br />\n	<br />\n	<span style="color: #0000ff"><span style="font-size: 14px">Saturday \, Deecmber 31st 7:30pm-12:30am<br />\n	Cocktail Hour-Dinner-Casino Tables-Dancing-Countdown</span></span><br />\n	<br />\n	<span style="color: #ff0000"><span style="font-size: 14px">VEGAS STYLE BUFFET</span></span><br />\n	<span style="color: #0000ff">Featuring Hors D&#39\;oeuvres\, Soups\, Salads\, Carved Prime Rib\, Roast Turkey\, Seafood Newburg\, Petite Filet Mignon\, Apple Cornbread Stuffed Chicken\, Seafood Stuffed Sole\, Crusted Haddock\, Pasta Station\, Gourmet Pastries\, Desserts and MUCH MORE!</span><br />\n	<br />\n	<span style="color: #ff0000"><span style="font-size: 14px">CASINO TABLES</span></span><br />\n	<span style="color: #0000ff">Play your hand at your favorite Vegas games featuring Black Jack\, Roulette\, Craps and win some great raffle prizes</span><br />\n	<br />\n	<span style="color: #ff0000"><span style="font-size: 14px">Music Provided by Boston&#39\;s BestNu Image Entertainment!<br />\n	Champagne Toast &amp\; Balloon Drop at Midnight<br />\n	$75 per person +tax ($50 off parties of 10ppl.)</span></span><br />\n	<br />\n	<span style="color: #0000ff"><span style="font-size: 14px">Call for Tickets 978-352-2991!</span></span><br />\n	<br />\n	<span style="color: #0000ff"><span style="font-size: 14px">*Participants in the NYE AAA safe driving program.</span></span></p>\n
LOCATION:Keons at the Black Swan Country Club
UID:e.1189.2386
SEQUENCE:3
DTSTAMP:20260419T155352Z
URL:https://business.newburyportchamber.org/events/details/new-year-s-eve-party-12-31-2011-2386
END:VEVENT

END:VCALENDAR
