BEGIN:VCALENDAR
VERSION:2.0
PRODID:-//ChamberMaster//Event Calendar 2.0//EN
METHOD:PUBLISH
X-PUBLISHED-TTL:P3D
REFRESH-INTERVAL:P3D
CALSCALE:GREGORIAN
BEGIN:VEVENT
DTSTART:20111231T230000Z
DTEND:20120101T060000Z
X-MICROSOFT-CDO-ALLDAYEVENT:FALSE
SUMMARY:New Year's Eve at Ten Center
DESCRIPTION:Join us for our annual New Year's Eve celebration!\n\n\n\n6 pm Seating: 3 Course Pre-fixe menu - $45/person\n\n8pm Seating: 3 Course Pre-fixe menu and entry into our late night party! - $50/person\n\n10pm-1am: Hors d'oeuvres and small bites\, Champagne Toast\, and Live Music - $55/person\n\n\n\nReservations required.
X-ALT-DESC;FMTTYPE=text/html:Join us for our annual New Year&#39\;s Eve celebration!<br />\n<br />\n6 pm Seating: 3 Course Pre-fixe menu - $45/person<br />\n8pm Seating: 3 Course Pre-fixe menu and entry into our late night party! - $50/person<br />\n10pm-1am: Hors d&#39\;oeuvres and small bites\, Champagne Toast\, and Live Music - $55/person<br />\n<br />\nReservations required.<br />\n
LOCATION:Ten Center Street
UID:e.1189.2416
SEQUENCE:3
DTSTAMP:20260419T141609Z
URL:https://business.newburyportchamber.org/events/details/new-year-s-eve-at-ten-center-12-31-2011-2416
END:VEVENT

END:VCALENDAR
