BEGIN:VCALENDAR
VERSION:2.0
PRODID:-//ChamberMaster//Event Calendar 2.0//EN
METHOD:PUBLISH
X-PUBLISHED-TTL:P3D
REFRESH-INTERVAL:P3D
CALSCALE:GREGORIAN
BEGIN:VEVENT
DTSTART;VALUE=DATE:20111231
DTEND;VALUE=DATE:20120102
TRANSP:TRANSPARENT
X-MICROSOFT-CDO-ALLDAYEVENT:TRUE
SUMMARY:New Year's Eve at Michael's Harborside
DESCRIPTION:Rock in 2012 with Don't Call Me Shirley! They'll be upstairs at Michael's from 8pm-12:30am as we welcome in the New Year with a Champagne Toast at midnight!\n\n\n\nRing in the New Year on the Waterfront with our New England Clam Bake.\n\nIt's a pound of fresh steamers\, your choice of soup or salad\, a one-pound lobster with potato and corn and Michael's signature Strawberry Shortcake. All for just $20.12\n\n\n\nClam Bake special available all day December 31\, 2011 and January 1\, 2012.
X-ALT-DESC;FMTTYPE=text/html:Rock in 2012 with Don&#39\;t Call Me Shirley! They&#39\;ll be upstairs at Michael&#39\;s from 8pm-12:30am as we welcome in the New Year with a Champagne Toast at midnight!<br />\n<br />\nRing in the New Year on the Waterfront with our New England Clam Bake.<br />\nIt&rsquo\;s a pound of fresh steamers\, your choice of soup or salad\, a one-pound lobster with potato and corn and Michael&rsquo\;s signature Strawberry Shortcake. All for just $20.12<br />\n<br />\nClam Bake special available all day December 31\, 2011 and January 1\, 2012.
LOCATION:Michael's Harborside Tournament Wharf Newburyport
UID:e.1189.2417
SEQUENCE:3
DTSTAMP:20260419T141156Z
URL:https://business.newburyportchamber.org/events/details/new-year-s-eve-at-michael-s-harborside-12-31-2011-2417
END:VEVENT

END:VCALENDAR
