BEGIN:VCALENDAR
VERSION:2.0
PRODID:-//ChamberMaster//Event Calendar 2.0//EN
METHOD:PUBLISH
X-PUBLISHED-TTL:P3D
REFRESH-INTERVAL:P3D
CALSCALE:GREGORIAN
BEGIN:VEVENT
DTSTART;VALUE=DATE:20120121
DTEND;VALUE=DATE:20120122
TRANSP:TRANSPARENT
X-MICROSOFT-CDO-ALLDAYEVENT:TRUE
SUMMARY:New Works Festival 2012
DESCRIPTION:Since 2002 The Firehouse Center for the Arts and the New Works Festival have fostered the development of New England writers\, directors\, and actors.\n\n	Providing insight on the play writing process from conception to presentation\, this festival allows us to share with the community a rare and special look at the abundant talent that surrounds us.\n\n	Submitted plays are judged by an independent panel of theater professionals in blind readings.\n\n	The 2012 New Works Festival will be showcasing full-length plays as staged readings\, and memorized ten-minute and one-act plays. Check the web site often for updates on calls-for-submissions\, auditions\, etc.
X-ALT-DESC;FMTTYPE=text/html:<p>\n	Since 2002 The Firehouse Center for the Arts and the New Works Festival have fostered the development of New England writers\, directors\, and actors.</p>\n<p>\n	Providing insight on the play writing process from conception to presentation\, this festival allows us to share with the community a rare and special look at the abundant talent that surrounds us.</p>\n<p>\n	Submitted plays are judged by an independent panel of theater professionals in blind readings.</p>\n<p>\n	The 2012 New Works Festival will be showcasing full-length plays as staged readings\, and memorized ten-minute and one-act plays. Check the web site often for updates on calls-for-submissions\, auditions\, etc.</p>\n
LOCATION:Firehouse Center for the Arts Market Square Newburyport
UID:e.1189.2027
SEQUENCE:3
DTSTAMP:20260419T141155Z
URL:https://business.newburyportchamber.org/events/details/new-works-festival-2012-01-21-2012-2027
END:VEVENT

END:VCALENDAR
