BEGIN:VCALENDAR
VERSION:2.0
PRODID:-//ChamberMaster//Event Calendar 2.0//EN
METHOD:PUBLISH
X-PUBLISHED-TTL:P3D
REFRESH-INTERVAL:P3D
CALSCALE:GREGORIAN
BEGIN:VEVENT
DTSTART:20110121T050000Z
DTEND:20110129T050000Z
X-MICROSOFT-CDO-ALLDAYEVENT:FALSE
SUMMARY:New Works Festival 2011
DESCRIPTION:Since 2002 The Firehouse Center for the Arts and the New Works Festival have fostered the development of New England writers\, directors\, and actors. Providing insight on the play writing process from conception to presentation\, this festival allows us to share with the community a rare and special look at the abundant talent that surrounds us. Submitted plays are judged by an independent panel of theater professionals in blind readings. This year's panel consisted of seven members of the theatrical community. The 2011 New Works Festival will be showcasing full-length plays as staged readings\, and memorized ten-minute plays.
X-ALT-DESC;FMTTYPE=text/html:Since 2002 The Firehouse Center for the Arts and the New Works Festival have fostered the development of New England writers\, directors\, and actors. Providing insight on the play writing process from conception to presentation\, this festival allows us to share with the community a rare and special look at the abundant talent that surrounds us. Submitted plays are judged by an independent panel of theater professionals in blind readings. This year's panel consisted of seven members of the theatrical community. The 2011 New Works Festival will be showcasing full-length plays as staged readings\, and memorized ten-minute plays.
LOCATION:Firehouse Center for the Arts
UID:e.1189.1636
SEQUENCE:3
DTSTAMP:20260420T112010Z
URL:https://business.newburyportchamber.org/events/details/new-works-festival-2011-01-21-2011-1636
END:VEVENT

END:VCALENDAR
