BEGIN:VCALENDAR
VERSION:2.0
PRODID:-//ChamberMaster//Event Calendar 2.0//EN
METHOD:PUBLISH
X-PUBLISHED-TTL:P3D
REFRESH-INTERVAL:P3D
CALSCALE:GREGORIAN
BEGIN:VEVENT
DTSTART:20111107T223000Z
DTEND:20111108T003000Z
X-MICROSOFT-CDO-ALLDAYEVENT:FALSE
SUMMARY:New Member Mixer - David's Tavern
DESCRIPTION:Special Event Exclusively for those Members who have joined the Chamber in the last year!\n\n	\n\n	David's Tavern at Brown Square is the setting for the Annual Mixer for just those New Members who have joined the Chamber within the past year.\n\n	\n\n	Meet and mingle with your fellow new members in a fun\, dynamic setting. Meet staff and board members. Then\, hear from everyone about who they are and what their business is.\n\n	Free Admission * Hors d'oeurves * Cash Bar\n\n	\n\n	Bring your business promotional materials for the display table.
X-ALT-DESC;FMTTYPE=text/html:<p>\n	<font color="#0000ff"><strong><font color="#ff0000">Special Event Exclusively for those Members who have joined the Chamber in the last year!</font><br />\n	<br />\n	David&#39\;s Tavern at Brown Square</strong></font> is the setting for the Annual Mixer for just those New Members&nbsp\;who have joined the Chamber&nbsp\;within the past year.<br />\n	<br />\n	Meet and mingle with your fellow new members in a fun\, dynamic&nbsp\;setting. Meet staff and board members.&nbsp\;Then\, hear from everyone about who they are and what their business is.</p>\n<p>\n	Free Admission * Hors d&#39\;oeurves * Cash Bar<br />\n	<br />\n	Bring your business promotional materials for the display table.<span _fck_bookmark="1" style="display: none">&nbsp\;</span></p>\n
LOCATION:11 Brown Square Across from City Hall on Pleasant Street
UID:e.1189.1827
SEQUENCE:3
DTSTAMP:20260419T173010Z
URL:https://business.newburyportchamber.org/events/details/new-member-mixer-david-s-tavern-11-07-2011-1827
END:VEVENT

END:VCALENDAR
