BEGIN:VCALENDAR
VERSION:2.0
PRODID:-//ChamberMaster//Event Calendar 2.0//EN
METHOD:PUBLISH
X-PUBLISHED-TTL:P3D
REFRESH-INTERVAL:P3D
CALSCALE:GREGORIAN
BEGIN:VEVENT
DTSTART:20091102T050000Z
DTEND:20091102T050000Z
X-MICROSOFT-CDO-ALLDAYEVENT:FALSE
SUMMARY:New Member Mixer - David's Restaurant
DESCRIPTION:Special Event Especially for those who have joined the Chamber in the last year!\n\nDavid's Tavern at Brown Square is the setting for the Annual Mixer\nfor just those New Members who have joined the Chamber within the past year.\n\nMeet and mingle with your fellow new members in a fun\, dynamic setting. \nThen\, hear from everyone about who they are and what their business is.Free Admission * Hors d'oeurves * Cash Bar\n\nBring your business promotional materials for the display table.If registering after 11/1 please call the chamber at 978-462-6680 x13
X-ALT-DESC;FMTTYPE=text/html:<P><FONT color=#0000ff><STRONG><FONT color=#ff0000>Special Event Especially for those who have joined the Chamber in the last year!</FONT><BR><BR>David's Tavern at Brown Square</STRONG></FONT> is the setting for the Annual Mixer<BR>for just those New Members&nbsp\;who have joined the Chamber&nbsp\;within the past year.<BR><BR>Meet and mingle with your fellow new members in a fun\, dynamic&nbsp\;setting. <BR>Then\, hear from everyone about who they are and what their business is.</P><P>Free Admission * Hors d'oeurves * Cash Bar<BR><BR>Bring your business promotional materials for the display table.</P><P class=bodytext><FONT face=Arial><STRONG><EM>If registering after 11/1 please call the chamber at&nbsp\;978-462-6680 x13</EM></STRONG></FONT></P><P>&nbsp\;</P><P>&nbsp\;</P><P>&nbsp\;</P>
LOCATION:David's Tavern at Brown Square
UID:e.1189.1171
SEQUENCE:3
DTSTAMP:20260421T151209Z
URL:https://business.newburyportchamber.org/events/details/new-member-mixer-david-s-restaurant-11-02-2009-1171
END:VEVENT

END:VCALENDAR
