BEGIN:VCALENDAR
VERSION:2.0
PRODID:-//ChamberMaster//Event Calendar 2.0//EN
METHOD:PUBLISH
X-PUBLISHED-TTL:P3D
REFRESH-INTERVAL:P3D
CALSCALE:GREGORIAN
BEGIN:VEVENT
DTSTART:20110828T160000Z
DTEND:20110828T160000Z
X-MICROSOFT-CDO-ALLDAYEVENT:FALSE
SUMMARY:NEF Summer Music Festival
DESCRIPTION:Summer Music Festival at Spencer-Peirce-Little Farm featuring Das Pintos and Vintage Baseball and more\n\n\n\n\n	Press alert: For safety\, we rescheduled the NEF Summertime Family Music Festival (scheduled for Sunday 8/28) to October 23. If questions\, please contact us at info@NewburyportEF.org or Marcia Samuelson at msamuelson@NewburyportEF.org.
X-ALT-DESC;FMTTYPE=text/html:Summer Music Festival at Spencer-Peirce-Little Farm featuring Das Pintos and Vintage Baseball and more<br />\n<br />\n<p class="NormalWeb1" style="line-height: 17pt\; margin-bottom: 5pt\; margin-left: 0in\; margin-right: 11.25pt">\n	<span style="font-size: 14px"><font color="#cc0000" face="Verdana"><span style="font-family: verdana\; color: #cc0000">Press alert: For safety\, we rescheduled the NEF Summertime Family Music Festival (scheduled for Sunday 8/28) to October 23. If questions\, please contact us at info@NewburyportEF.org or Marcia Samuelson at <a href="mailto:msamuelson@NewburyportEF.org">msamuelson@NewburyportEF.org</a>.</span></font></span></p>\n
LOCATION:Spencer-Peirce-Little Farm Newbury
UID:e.1189.2016
SEQUENCE:3
DTSTAMP:20260419T224632Z
URL:https://business.newburyportchamber.org/events/details/nef-summer-music-festival-08-28-2011-2016
END:VEVENT

END:VCALENDAR
