BEGIN:VCALENDAR
VERSION:2.0
PRODID:-//ChamberMaster//Event Calendar 2.0//EN
METHOD:PUBLISH
X-PUBLISHED-TTL:P3D
REFRESH-INTERVAL:P3D
CALSCALE:GREGORIAN
BEGIN:VEVENT
DTSTART;VALUE=DATE:20110929
DTEND;VALUE=DATE:20110930
TRANSP:TRANSPARENT
X-MICROSOFT-CDO-ALLDAYEVENT:TRUE
SUMMARY:NEF Open
DESCRIPTION:3rd Annual NEF Open. Golf fundraiser to raise money for the Newburyport Public Schools.
X-ALT-DESC;FMTTYPE=text/html:3rd Annual NEF Open. Golf fundraiser to raise money for the Newburyport Public Schools.
LOCATION:Ipswich Country Club Ipswich
UID:e.1189.2018
SEQUENCE:3
DTSTAMP:20260419T205837Z
URL:https://business.newburyportchamber.org/events/details/nef-open-09-29-2011-2018
END:VEVENT

END:VCALENDAR
