BEGIN:VCALENDAR
VERSION:2.0
PRODID:-//ChamberMaster//Event Calendar 2.0//EN
METHOD:PUBLISH
X-PUBLISHED-TTL:P3D
REFRESH-INTERVAL:P3D
CALSCALE:GREGORIAN
BEGIN:VEVENT
DTSTART;VALUE=DATE:20110926
DTEND;VALUE=DATE:20110927
TRANSP:TRANSPARENT
X-MICROSOFT-CDO-ALLDAYEVENT:TRUE
SUMMARY:NEF Open
DESCRIPTION:This year's NEF Open to raise money for the Newburyport\n\n	Public Schools will be held at the historic Ipswich Country \n\n	Club in Ipswich\, MA.  Sitting on 350 acres of property\, \n\n	Ipswich Country Club is a sanctuary for golf lovers.  A course \n\n	of unsurpassed beauty coupled with a family-oriented \n\n	atmosphere\, it is sure to provide a golfing experience \n\n	unmatched in this area.\n\n	\n\n	Sign up online. www.NewburyportEF.org
X-ALT-DESC;FMTTYPE=text/html:<p class="ecxMsoNormal">\n	<span style="font-size: 10px"><span style="color: black">This year&rsquo\;s NEF Open to raise money for the&nbsp\;Newburyport<br />\n	Public Schools </span><span style="color: black">will be&nbsp\;held at the&nbsp\;historic Ipswich Country </span></span><br />\n	<span style="font-size: 10px"><span style="color: black">Club in Ipswich\, MA.&nbsp\;&nbsp\;Sitting on 350 acres of property\, </span></span><br />\n	<span style="font-size: 10px"><span style="color: black">Ipswich Country Club is a sanctuary for golf lovers. &nbsp\;A course </span></span><br />\n	<span style="font-size: 10px"><span style="color: black">of unsurpassed beauty coupled with a family-oriented </span></span><br />\n	<span style="font-size: 10px"><span style="color: black">atmosphere\, it is sure to provide a golfing experience </span></span><br />\n	<span style="font-size: 10px"><span style="color: black">unmatched in this area.<br />\n	<br />\n	Sign up online. <a href="http://www.newburyportef.org/" target="_blank">www.NewburyportEF.org</a></span></span></p>\n
LOCATION:Ipswich Country Club
UID:e.1189.2094
SEQUENCE:3
DTSTAMP:20260419T205852Z
URL:https://business.newburyportchamber.org/events/details/nef-open-09-26-2011-2094
END:VEVENT

END:VCALENDAR
