BEGIN:VCALENDAR
VERSION:2.0
PRODID:-//ChamberMaster//Event Calendar 2.0//EN
METHOD:PUBLISH
X-PUBLISHED-TTL:P3D
REFRESH-INTERVAL:P3D
CALSCALE:GREGORIAN
BEGIN:VEVENT
DTSTART;VALUE=DATE:20110607
DTEND;VALUE=DATE:20110620
TRANSP:TRANSPARENT
X-MICROSOFT-CDO-ALLDAYEVENT:TRUE
SUMMARY:My Fair Lady
DESCRIPTION:Lerner & Loewe's MY FAIR LADY became an instant Broadway classic in 1956 and will become a favoriteonce again when North Shore Music Theatre opens its 2011 season with what many call the "perfect musical." This story of a poor cockney girl\, Eliza Doolittle\, who is transformed into an elegant ladyby Professor Henry Higgins (starring Charles Shaugnessey star of "The Nanny")\, never fails to entrance an audience. With some of the musical theatre's most beloved songs like "Wouldn't It Be Loverly?" and "I Could Have Danced All Night\," this is a musical treat for the ages.
X-ALT-DESC;FMTTYPE=text/html:Lerner &amp\; Loewe&#39\;s MY FAIR LADY became an instant Broadway classic in 1956 and will become a favoriteonce again when North Shore Music Theatre opens its 2011 season with what many call the &quot\;perfect musical.&quot\; This story of a poor cockney girl\, Eliza Doolittle\, who is transformed into an elegant ladyby Professor Henry Higgins (starring Charles Shaugnessey star of &quot\;The Nanny&quot\;)\, never fails to entrance an audience. With some of the musical theatre&#39\;s most beloved songs like &quot\;Wouldn&#39\;t It Be Loverly?&quot\; and &quot\;I Could Have Danced All Night\,&quot\; this is a musical treat for the ages.
LOCATION:North Shore Music Theatre 62 Dunham Road Beverly 01915-
UID:e.1189.1858
SEQUENCE:3
DTSTAMP:20260420T015844Z
URL:https://business.newburyportchamber.org/events/details/my-fair-lady-06-07-2011-1858
END:VEVENT

END:VCALENDAR
