BEGIN:VCALENDAR
VERSION:2.0
PRODID:-//ChamberMaster//Event Calendar 2.0//EN
METHOD:PUBLISH
X-PUBLISHED-TTL:P3D
REFRESH-INTERVAL:P3D
CALSCALE:GREGORIAN
BEGIN:VEVENT
DTSTART:20110608T210000Z
DTEND:20110608T231500Z
X-MICROSOFT-CDO-ALLDAYEVENT:FALSE
SUMMARY:My Fair Ladies Night Out
DESCRIPTION:Multi Chamber Women's Networking celebration $10 to NCofC.  Group Tickets to the 7:30 pm peformanceof My Fair Lady available for $44 with discount code LNO through NSMT Box Office at 978-232-7200.
X-ALT-DESC;FMTTYPE=text/html:Multi Chamber Women&#39\;s Networking celebration $10 to NCofC.&nbsp\; Group Tickets to the 7:30 pm peformanceof My Fair Lady available for $44 with discount code LNO through NSMT Box Office at 978-232-7200.
LOCATION:North Shore Music Theatre 62 Dunham Road Beverly 01915-
UID:e.1189.1860
SEQUENCE:3
DTSTAMP:20260420T020157Z
URL:https://business.newburyportchamber.org/events/details/my-fair-ladies-night-out-06-08-2011-1860
END:VEVENT

END:VCALENDAR
