BEGIN:VCALENDAR
VERSION:2.0
PRODID:-//ChamberMaster//Event Calendar 2.0//EN
METHOD:PUBLISH
X-PUBLISHED-TTL:P3D
REFRESH-INTERVAL:P3D
CALSCALE:GREGORIAN
BEGIN:VEVENT
DTSTART:20110618T000000Z
DTEND:20110618T030000Z
X-MICROSOFT-CDO-ALLDAYEVENT:FALSE
SUMMARY:Motown Dance Party
DESCRIPTION:Motown Dance Party Fundraiser to benefit the Yankee Homecoming Parade. $15/advance. $10/at door
X-ALT-DESC;FMTTYPE=text/html:Motown Dance Party Fundraiser to benefit the Yankee Homecoming Parade. $15/advance. $10/at door
LOCATION:Mission Oak Grill 26 Green Street Newburyport Yankee Homecoming (978) 255-2184
UID:e.1189.1874
SEQUENCE:3
DTSTAMP:20260420T020158Z
URL:https://business.newburyportchamber.org/events/details/motown-dance-party-06-17-2011-1874
END:VEVENT

END:VCALENDAR
