BEGIN:VCALENDAR
VERSION:2.0
PRODID:-//ChamberMaster//Event Calendar 2.0//EN
METHOD:PUBLISH
X-PUBLISHED-TTL:P3D
REFRESH-INTERVAL:P3D
CALSCALE:GREGORIAN
BEGIN:VEVENT
DTSTART;VALUE=DATE:20120123
DTEND;VALUE=DATE:20120124
TRANSP:TRANSPARENT
X-MICROSOFT-CDO-ALLDAYEVENT:TRUE
SUMMARY:Monday Eve Estates Auction
DESCRIPTION:Furnishings\, Dresden\, Herend\, Royal Winton\, Bisque\,Vintage and estate purses\, Dresser Items\, Hummel Umbrella boy and girl\, Huge selection of dinner and or lunch services\, Collectable enameled and porcelain boxes\, Steiff\, Nice selection of tablecloths\, Vintage Clothing\, Stemware\; Silver plate lots\; Waterford \, Pressed glass\; Asian vases\; Roseville\, Sterling Silver\n\n	 \n\n	Estate Jewelry Collection: -TO BE SOLD AT 5:45 P.M\n\n	\n\n	Preview: Auction Day 2:00-6:00\n\n	For more information visit us at:\n\n	mcinnisauctions.com\n\n	978-388-0400\n\n	15% Buyers Premium\n\n	Ma Lic # 770\n\n	Cash or check with proper ID.\n\n	All sales subject to 6.25% MA sales tax.\n\n	\n\n	Directions: RT 95 to Exit 58 to Route 110 west to Main Street\n\n	In the event of a severe winter snowstorm the auction will be postponed until Tuesday January 24th at 6:00 pm
X-ALT-DESC;FMTTYPE=text/html:<p style="text-align: center">\n	<span style="color: #0000cd">Furnishings\, Dresden\, Herend\, Royal Winton\, Bisque\,Vintage and estate purses\, Dresser Items\, Hummel Umbrella boy and girl\, Huge selection of dinner and or lunch services\, Collectable enameled and porcelain boxes\, Steiff\, Nice selection of tablecloths\, Vintage Clothing\, Stemware\; Silver plate lots\; Waterford \, Pressed glass\; Asian vases\; Roseville\, Sterling Silver</span><br />\n	&nbsp\;</p>\n<li style="text-align: center">\n	<u><span style="color: #0000cd"><strong>Estate Jewelry Collection: -TO BE SOLD AT 5:45 P.M</strong></span></u></li>\n<p style="text-align: center">\n	<br />\n	<span style="color: #0000cd">Preview: Auction Day 2:00-6:00<br />\n	For more information visit us at:<br />\n	mcinnisauctions.com<br />\n	978-388-0400<br />\n	15% Buyers Premium<br />\n	Ma Lic # 770<br />\n	Cash or check with proper ID.<br />\n	All sales subject to 6.25% MA sales tax.</span><br />\n	<br />\n	<span style="color: #0000cd">Directions: RT 95 to Exit 58 to Route 110 west to Main Street<br />\n	In the event of a severe winter snowstorm the auction will be postponed until Tuesday January 24th at 6:00 pm</span><br />\n	<br />\n	&nbsp\;</p>\n
LOCATION:At our gallery 76 Main St\, Amesbury\, MA
UID:e.1189.2717
SEQUENCE:3
DTSTAMP:20260419T140947Z
URL:https://business.newburyportchamber.org/events/details/monday-eve-estates-auction-01-23-2012-2717
END:VEVENT

END:VCALENDAR
