BEGIN:VCALENDAR
VERSION:2.0
PRODID:-//ChamberMaster//Event Calendar 2.0//EN
METHOD:PUBLISH
X-PUBLISHED-TTL:P3D
REFRESH-INTERVAL:P3D
CALSCALE:GREGORIAN
BEGIN:VEVENT
DTSTART:20120209T223000Z
DTEND:20120210T013000Z
X-MICROSOFT-CDO-ALLDAYEVENT:FALSE
SUMMARY:MK Winston Celebrity Bartender Night
DESCRIPTION:Join us at Ten Center for Celebrity Bartender Night on Thursday\, February 9th with Matt and Karyn Khatib\, owners of MK Winston Jewelers. Try the Diamond & Sapphire Martini with a portion of the evening's proceeds going to the Jeanne Geiger Crisis Center.\n\n\n\nEnter to win a $1000 gift card to MK Winston that night or try the special cocktail all February long for your chance to win a $500 MK Winston gift card at random! A portion of the sales from every Diamond & Sapphire Martini sold throughout the month will go directly to Jeanne Geiger!
X-ALT-DESC;FMTTYPE=text/html:Join us at Ten Center for Celebrity Bartender Night on Thursday\, February 9th with Matt and Karyn Khatib\, owners of MK Winston Jewelers. Try the Diamond &amp\; Sapphire Martini with a portion of the evening&#39\;s proceeds going to the Jeanne Geiger Crisis Center.<br />\n<br />\nEnter to win a $1000 gift card to MK Winston that night or try the special cocktail all February long for your chance to win a $500 MK Winston gift card at random! A portion of the sales from every Diamond &amp\; Sapphire Martini sold throughout the month will go directly to Jeanne Geiger!
LOCATION:Ten Center Street Restaurant 10 Center St. Newburyport
UID:e.1189.2910
SEQUENCE:3
DTSTAMP:20260419T140812Z
URL:https://business.newburyportchamber.org/events/details/mk-winston-celebrity-bartender-night-02-09-2012-2910
END:VEVENT

END:VCALENDAR
