BEGIN:VCALENDAR
VERSION:2.0
PRODID:-//ChamberMaster//Event Calendar 2.0//EN
METHOD:PUBLISH
X-PUBLISHED-TTL:P3D
REFRESH-INTERVAL:P3D
CALSCALE:GREGORIAN
BEGIN:VEVENT
DTSTART:20111116T223000Z
DTEND:20111117T003000Z
X-MICROSOFT-CDO-ALLDAYEVENT:FALSE
SUMMARY:Mixer - Sponsored by Plum Island Coffee Roasters & Realtor John P. Wells and HappyinNewburyport.com.
DESCRIPTION:Sponsored by Plum Island Coffee Roasters together with Realtor John P. Wells and HappyInNewburyport.com\n\n\n\nCo-hosts Bruce Vogel of Plum Island Coffee Roasters and John P. Wells\, Realtor cordially invite you to join them at our November Members Mixer.  Meet and mingle with chamber members in this quaint cafe overlooking the river.\n\n\n\nYou are also invited to come a little early at 5:00 PM for a free overview session on how to blog on HappyInNewburyport.com.\n\n\n\nWednesday\, November 16th\n\n5:30PM - 7:30PM\n\n\n\n$10 Admission\n\nPlease pay at the door\n\n\n\nwww.plumislandcoffee.com\n\nwww.happyinnewburyport.com
X-ALT-DESC;FMTTYPE=text/html:<span style="font-size: 14px"><span style="font-family: arial"><strong><span style="color: #800000">Sponsored by Plum Island Coffee Roasters together with Realtor John P. Wells and HappyInNewburyport.com</span></strong><br />\n<br />\nCo-hosts Bruce Vogel of Plum Island Coffee Roasters and John P. Wells\, Realtor cordially invite you to join them at our November&nbsp\;Members Mixer.&nbsp\; Meet and mingle with chamber members in this quaint cafe overlooking the river.<br />\n<br />\nYou are also invited to come a little early at 5:00 PM for a <em><strong>free overview session </strong></em>on how to blog on HappyInNewburyport.com.<br />\n<br />\nWednesday\, November 16th<br />\n5:30PM - 7:30PM<br />\n<br />\n$10 Admission<br />\nPlease pay at the door<br />\n<br />\n<strong><a href="http://www.plumislandcoffee.com"><span style="color: #daa520">www.plumislandcoffee.com</span></a></strong></span></span><br />\n<span style="color: #3399ff"><strong><span style="font-size: 11pt"><span style="font-family: calibri\,sans-serif"><a href="http://happyinnewburyport.com/">www.happyinnewburyport.com</a></span></span></strong></span><span style="color: #3399ff"><strong><span style="font-size: 11pt"><span style="font-family: calibri\,sans-serif"> </span></span></strong></span><br />\n
LOCATION:Plum Island Coffee Roasters 54 R Merrimac Street Newburyport\, MA Adjacent to the Newburyoprt Whalewatch building to the left of the Black Cow.
UID:e.1189.2297
SEQUENCE:3
DTSTAMP:20260419T192252Z
URL:https://business.newburyportchamber.org/events/details/mixer-sponsored-by-plum-island-coffee-roasters-realtor-john-p-wells-and-happyinnewburyport-com-11-16-2011-2297
END:VEVENT

END:VCALENDAR
