BEGIN:VCALENDAR
VERSION:2.0
PRODID:-//ChamberMaster//Event Calendar 2.0//EN
METHOD:PUBLISH
X-PUBLISHED-TTL:P3D
REFRESH-INTERVAL:P3D
CALSCALE:GREGORIAN
BEGIN:VEVENT
DTSTART:20100511T040000Z
DTEND:20100511T040000Z
X-MICROSOFT-CDO-ALLDAYEVENT:FALSE
SUMMARY:Mixer - Merrimack Valley Magazine
DESCRIPTION:Hosted by Merrimack Valley Magazine\nLocated at Amesbury Sports Park Join your host\, Glenn Prezzano of Merrimack Valley Magazine\, and members of the Newburport and Amesbury Chambers of Commerce at the May Business After Hours on May 11\, 2010 from 5:30 to 7:30 p.m. at the Amesbury Sports Park\, 12 South Hunt Road.\n\nEnjoy a delicious buffet catered by Amesbury Sports Park including Pan Seared Crab Cakes\, Potato Pinchos\, Vegetable Crudites\, Chilled Shrimp Mousse\, Red Pepper Wrapped Mozzarella Balls\, Cornmeal Blini\, Searfood Ravioli and Melted Leek\, Shittake Mushroom and Goat Cheese Crostini.  Network with local business people and enjoy delicious appetizers!  Enter the door prize raffle to win one of the great prizes being offered!  This event is free and open to the public. Directions: \nRte 110 West towards Amesbury. Turn left at intersection onto Rte 150 at lights (Andyman Bakery on the right).Turn right onto So Hunt Road. ASP is 1/4 mile up on left.
X-ALT-DESC;FMTTYPE=text/html:<P><P><FONT face=Arial><FONT size=4></FONT></FONT></P><FONT face=Arial><FONT color=#4592e7 face=Arial><SPAN></SPAN><P style="MARGIN: 0in 0in 0pt\; mso-margin-top-alt: auto\; mso-margin-bottom-alt: auto" class=MsoNormal><FONT size=4><SPAN style="FONT-FAMILY: Calibri\; COLOR: black\; mso-bidi-font-family: Arial"></SPAN></FONT></P><P style="MARGIN: 0in 0in 0pt\; mso-margin-top-alt: auto\; mso-margin-bottom-alt: auto" class=MsoNormal><SPAN style="FONT-FAMILY: Calibri\; COLOR: black\; mso-bidi-font-family: Arial"><FONT size=4></FONT></SPAN></P><P style="MARGIN: 0in 0in 0pt" class=MsoNormal><SPAN style="FONT-FAMILY: Calibri\; COLOR: black\; mso-bidi-font-family: Arial"></SPAN><FONT color=#0000ff size=4></FONT>&nbsp\;</P><P style="MARGIN: 0in 0in 0pt" class=MsoNormal><FONT color=#0000ff size=4><SPAN style="FONT-FAMILY: Calibri\; COLOR: black\; mso-bidi-font-family: Arial"><STRONG>Hosted by Merrimack Valley Magazine<BR>Located at Amesbury Sports Park</STRONG></SPAN></FONT></P><P style="MARGIN: 0in 0in 0pt" class=MsoNormal><FONT size=4><SPAN style="FONT-FAMILY: Calibri\; COLOR: black\; mso-bidi-font-family: Arial"></SPAN></FONT>&nbsp\;</P><P style="MARGIN: 0in 0in 0pt" class=MsoNormal><SPAN style="FONT-FAMILY: Calibri\; COLOR: black\; mso-bidi-font-family: Arial"><SPAN style="FONT-FAMILY: 'Arial Narrow'"><FONT size=4>Join your host\, Glenn Prezzano of </FONT><A style="COLOR: blue\; TEXT-DECORATION: underline" title="" dataFld=0:0 href="http://www.mvmag.net/" target=_NewWindow><FONT size=4>Merrimack Valley Magazine\,</FONT></A><FONT size=4> and members of the Newburport and Amesbury Chambers of Commerce at the May Business After Hours on May 11\, 2010 from 5:30 to 7:30 p.m. at the Amesbury Sports Park\, 12 South Hunt Road.<BR><BR>Enjoy a delicious buffet catered by Amesbury Sports Park including Pan Seared Crab Cakes\, Potato Pinchos\, Vegetable Crudites\, Chilled Shrimp Mousse\, Red Pepper Wrapped Mozzarella Balls\, Cornmeal Blini\, Searfood Ravioli and Melted Leek\, Shittake Mushroom and Goat Cheese Crostini.&nbsp\; Network with local business people and enjoy delicious appetizers!&nbsp\; Enter the door prize raffle to win one of the great prizes being offered!&nbsp\; This event is free and open to the public.</FONT></SPAN></SPAN></P><P style="MARGIN: 0in 0in 0pt" class=MsoNormal><SPAN style="FONT-FAMILY: Calibri\; COLOR: black\; mso-bidi-font-family: Arial"><SPAN style="FONT-FAMILY: 'Arial Narrow'"><FONT size=4></FONT></SPAN></SPAN>&nbsp\;</P><P style="MARGIN: 0in 0in 0pt" class=MsoNormal><SPAN style="FONT-FAMILY: Calibri\; COLOR: black\; mso-bidi-font-family: Arial"><SPAN style="FONT-FAMILY: 'Arial Narrow'"><FONT color=#0000ff size=4><STRONG>Directions: <BR>Rte 110 West towards Amesbury. Turn left at intersection onto Rte 150 at lights (Andyman Bakery on the right).</STRONG></FONT></SPAN></SPAN></P><P style="MARGIN: 0in 0in 0pt" class=MsoNormal><SPAN style="FONT-FAMILY: Calibri\; COLOR: black\; mso-bidi-font-family: Arial"><SPAN style="FONT-FAMILY: 'Arial Narrow'"><FONT color=#0000ff size=4><STRONG>Turn right onto So Hunt Road. ASP is 1/4 mile up on left.</STRONG></FONT></SPAN></SPAN></P><P style="MARGIN: 0in 0in 0pt\; mso-margin-top-alt: auto\; mso-margin-bottom-alt: auto" class=MsoNormal><SPAN style="FONT-FAMILY: Calibri\; COLOR: black\; mso-bidi-font-family: Arial"><?xml:namespace prefix = o ns = "urn:schemas-microsoft-com:office:office" /><o:p></o:p></SPAN><FONT size=4>&nbsp\;</FONT></P><P style="MARGIN: 0in 0in 0pt\; mso-margin-top-alt: auto\; mso-margin-bottom-alt: auto" class=MsoNormal><SPAN style="FONT-FAMILY: Calibri\; COLOR: black\; mso-bidi-font-family: Arial"><BR></SPAN>&nbsp\;</P></FONT></FONT><A href="http://www.josephswinterstcafe.com"></A>
LOCATION:Amesbury Sports Park
UID:e.1189.1553
SEQUENCE:3
DTSTAMP:20260421T050725Z
URL:https://business.newburyportchamber.org/events/details/mixer-merrimack-valley-magazine-05-11-2010-1553
END:VEVENT

END:VCALENDAR
