BEGIN:VCALENDAR
VERSION:2.0
PRODID:-//ChamberMaster//Event Calendar 2.0//EN
METHOD:PUBLISH
X-PUBLISHED-TTL:P3D
REFRESH-INTERVAL:P3D
CALSCALE:GREGORIAN
BEGIN:VEVENT
DTSTART:20110821T190000Z
DTEND:20110821T200000Z
X-MICROSOFT-CDO-ALLDAYEVENT:FALSE
SUMMARY:Methuen Ballet -Treasure Island
DESCRIPTION:TBA
X-ALT-DESC;FMTTYPE=text/html:TBA
LOCATION:Firehouse Center for the Arts Market Square Newburyport
UID:e.1189.2000
SEQUENCE:3
DTSTAMP:20260419T223657Z
URL:https://business.newburyportchamber.org/events/details/methuen-ballet-treasure-island-08-21-2011-2000
END:VEVENT

END:VCALENDAR
